BEGIN:VCALENDAR
VERSION:2.0
PRODID:-//ChamberMaster//Event Calendar 2.0//EN
METHOD:PUBLISH
X-PUBLISHED-TTL:P3D
REFRESH-INTERVAL:P3D
CALSCALE:GREGORIAN
BEGIN:VEVENT
DTSTART;VALUE=DATE:20191214
DTEND;VALUE=DATE:20191216
TRANSP:TRANSPARENT
X-MICROSOFT-CDO-ALLDAYEVENT:TRUE
SUMMARY:$1-$5 Shop
DESCRIPTION:Sat. Dec 14: KIDS ONLY @ $1-$5 SHOP w/ Silver Cord Students! 11am-3pm \n\nSun. Dec 15: $1-$5 & more!! PUBLIC shop! (ALL AGES welcome). 10am-5pm
X-ALT-DESC;FMTTYPE=text/html:<p><span style="font-family:arial\,sans-serif\;"><span style="font-size:10.0pt\;">Sat. Dec 14: KIDS ONLY @ $1-$5 SHOP w/ Silver Cord Students! 11am-3pm </span></span></p>\n\n<p><span style="font-family:arial\,sans-serif\;"><span style="font-size:10.0pt\;">Sun. Dec 15: $1-$5 &amp\; more!! PUBLIC shop! (ALL AGES welcome). 10am-5pm</span></span></p>\n
LOCATION:6:8 Bldg. 821 Industry Rd. Sauk City
UID:e.1184.22744
SEQUENCE:3
DTSTAMP:20260423T070321Z
URL:http://members.saukprairie.com/events/details/1-5-shop-22744
END:VEVENT

END:VCALENDAR
