BEGIN:VCALENDAR
VERSION:2.0
PRODID:-//ChamberMaster//Event Calendar 2.0//EN
METHOD:PUBLISH
X-PUBLISHED-TTL:P3D
REFRESH-INTERVAL:P3D
CALSCALE:GREGORIAN
BEGIN:VEVENT
DTSTART:20180701T153000Z
DTEND:20180701T180000Z
X-MICROSOFT-CDO-ALLDAYEVENT:FALSE
SUMMARY:100th Anniv. of Witwen Tabernacle
DESCRIPTION:Witwen Camp Meeting Assoc. will host a Worship & Celebration of the 100th year of the Historic Witwen Tabernacle on July 1st beginning at 10:30am. Coffee fellowship will begin at 10am\, and a catered lunch will follow the service (at noon). A framed\, signed painting by Allegra Zick will be silent-auctioned.
X-ALT-DESC;FMTTYPE=text/html:Witwen Camp Meeting Assoc. will host a Worship &amp\; Celebration of the 100th year of the Historic Witwen Tabernacle on July 1st beginning at 10:30am. Coffee fellowship will begin at 10am\, and a catered lunch will follow the service (at noon). A framed\, signed painting by Allegra Zick will be silent-auctioned.
LOCATION:S9855 County Road E\, Sauk City\, WI 53583 (North end of Witwen)
UID:e.1184.18154
SEQUENCE:3
DTSTAMP:20260424T082606Z
URL:http://members.saukprairie.com/events/details/100th-anniv-of-witwen-tabernacle-18154
END:VEVENT

END:VCALENDAR
