BEGIN:VCALENDAR
VERSION:2.0
PRODID:-//ChamberMaster//Event Calendar 2.0//EN
METHOD:PUBLISH
X-PUBLISHED-TTL:P3D
REFRESH-INTERVAL:P3D
CALSCALE:GREGORIAN
BEGIN:VEVENT
DTSTART:20191221T220000Z
DTEND:20191221T233000Z
X-MICROSOFT-CDO-ALLDAYEVENT:FALSE
SUMMARY:108 Sun Salutations Winter Solstice
DESCRIPTION:Celebrating a shift in seasons: cleanse\, embrace courage\, and clarify intention.\n\nA change of seasons is upon us again\, and so we celebrate the lovely transition into Winter\, marking the longest night and shortest day of the year\, with 108 Sun Salutations. Join instructor Brian Perry for a fun and sweaty Saturday afternoon. This traditional\, meditative flow will energize\, cleanse and restore.\n\nThe Significance of "108"Why\, do you ask\, do we do 108 of them?\n\nOne explanation\, is the distance to the sun is 108 times that of the earth. Some of those travels are easy and some are not. Some of the sun salutations will feel easy some will not. The journey is individual. But if we travel together\, breathe together\, and stay on the path together we will make it to the other side. That's how it is in life and that's how it will be when we partake together the ancient practice of 108 Sun Salutations to honor the great light.
X-ALT-DESC;FMTTYPE=text/html:<div>Celebrating a shift in seasons: cleanse\, embrace courage\, and clarify intention.</div>\n\n<p>A change of seasons is upon us again\, and so we celebrate the lovely transition into Winter\, marking the longest night and shortest day of the year\, with 108 Sun Salutations. Join instructor Brian Perry for a fun and sweaty Saturday afternoon. This traditional\, meditative flow will energize\, cleanse and restore.</p>\n\n<p>The Significance of &ldquo\;108&rdquo\;Why\, do you ask\, do we do 108 of them?</p>\n\n<p>One explanation\, is the distance to the sun is 108 times that of the earth. Some of those travels are easy and some are not. Some of the sun salutations will feel easy some will not. The journey is individual. But if we travel together\, breathe together\, and stay on the path together we will make it to the other side. That&rsquo\;s how it is in life and that&rsquo\;s how it will be when we partake together the ancient practice of 108 Sun Salutations to honor the great light.</p>\n
LOCATION:
UID:e.1184.23871
SEQUENCE:3
DTSTAMP:20260423T070321Z
URL:http://members.saukprairie.com/events/details/108-sun-salutations-winter-solstice-23871
END:VEVENT

END:VCALENDAR
