BEGIN:VCALENDAR
VERSION:2.0
PRODID:-//ChamberMaster//Event Calendar 2.0//EN
METHOD:PUBLISH
X-PUBLISHED-TTL:P3D
REFRESH-INTERVAL:P3D
CALSCALE:GREGORIAN
BEGIN:VEVENT
DTSTART;VALUE=DATE:20231206
DTEND;VALUE=DATE:20231224
TRANSP:TRANSPARENT
X-MICROSOFT-CDO-ALLDAYEVENT:TRUE
SUMMARY:12 Days of Christmas Sale at Unfolded
DESCRIPTION:Join Unfolded for their 12 Days of Christmas Sale!\n\n\n\nEach day will feature a different sale item.\n\nCheck out their Facebook daily for some of these great finds!\n\n\n\n12 Days of Sales will fall on the days Unfolded is Open:\n\nWednesday | 10 am - 5 pm\n\nThursday | 10 am - 5 pm\n\nFriday | 10 am - 5 pm\n\nSaturday | 10 am - 3 pm
X-ALT-DESC;FMTTYPE=text/html:Join Unfolded for their 12 Days of Christmas Sale!<br />\n<br />\nEach day will feature a different sale item.<br />\n<a href="https://www.facebook.com/UnfoldedLLC">Check out their Facebook</a> daily for some of these great finds!<br />\n<br />\n12 Days of Sales will fall on the days Unfolded is Open:<br />\nWednesday | 10 am - 5 pm<br />\nThursday | 10 am - 5 pm<br />\nFriday | 10 am - 5 pm<br />\nSaturday | 10 am - 3 pm
LOCATION:Unfolded 422 Water Street Prairie du Sac
UID:e.1184.31369
SEQUENCE:3
DTSTAMP:20260420T045056Z
URL:http://members.saukprairie.com/events/details/12-days-of-christmas-sale-at-unfolded-31369
END:VEVENT

END:VCALENDAR
