BEGIN:VCALENDAR
VERSION:2.0
PRODID:-//ChamberMaster//Event Calendar 2.0//EN
METHOD:PUBLISH
X-PUBLISHED-TTL:P3D
REFRESH-INTERVAL:P3D
CALSCALE:GREGORIAN
BEGIN:VEVENT
DTSTART;VALUE=DATE:20171027
DTEND;VALUE=DATE:20171028
TRANSP:TRANSPARENT
X-MICROSOFT-CDO-ALLDAYEVENT:TRUE
SUMMARY:12 Sonatas - A Concert by Trevor Stephenson
DESCRIPTION:Trevor Stephenson is an early keyboard specialist based in Madison\, Wisconsin. He started the Light and Shadow Record and Concert Company\, and is the artistic director and harpsichordist of the Madison Bach Musicians. Trevor has recorded fifteen albums\, and gives concerts and lectures throughout the United States.
X-ALT-DESC;FMTTYPE=text/html:<span style="color: rgb(0\, 0\, 0)\; font-family: &quot\;Open Sans&quot\;\, Arial\, Helvetica\, sans-serif\; font-size: 16px\;">Trevor Stephenson is an early keyboard specialist based in Madison\, Wisconsin. He started the Light and Shadow Record and Concert Company\, and is the artistic director&nbsp\;and harpsichordist of the&nbsp\;</span><a href="http://madionbachmusicians.org/" style="margin: 0px\; padding: 0px\; border: 0px\; outline: 0px\; font-variant-numeric: inherit\; font-stretch: inherit\; font-size: 16px\; line-height: inherit\; font-family: &quot\;Open Sans&quot\;\, Arial\, Helvetica\, sans-serif\; vertical-align: baseline\; color: rgb(51\, 51\, 51)\;">Madison Bach Musicians</a><span style="color: rgb(0\, 0\, 0)\; font-family: &quot\;Open Sans&quot\;\, Arial\, Helvetica\, sans-serif\; font-size: 16px\;">. Trevor has recorded fifteen&nbsp\;</span><a href="http://www.trevorstephenson.com/store/" style="margin: 0px\; padding: 0px\; border: 0px\; outline: 0px\; font-variant-numeric: inherit\; font-stretch: inherit\; font-size: 16px\; line-height: inherit\; font-family: &quot\;Open Sans&quot\;\, Arial\, Helvetica\, sans-serif\; vertical-align: baseline\; color: rgb(51\, 51\, 51)\;">albums</a><span style="color: rgb(0\, 0\, 0)\; font-family: &quot\;Open Sans&quot\;\, Arial\, Helvetica\, sans-serif\; font-size: 16px\;">\, and gives</span><a href="http://www.trevorstephenson.com/events/" style="margin: 0px\; padding: 0px\; border: 0px\; outline: 0px\; font-variant-numeric: inherit\; font-stretch: inherit\; font-size: 16px\; line-height: inherit\; font-family: &quot\;Open Sans&quot\;\, Arial\, Helvetica\, sans-serif\; vertical-align: baseline\; color: rgb(51\, 51\, 51)\;">&nbsp\;concerts and lectures</a><span style="color: rgb(0\, 0\, 0)\; font-family: &quot\;Open Sans&quot\;\, Arial\, Helvetica\, sans-serif\; font-size: 16px\;">&nbsp\;throughout the United States.</span>
LOCATION:Park Hall 307 Polk Street Sauk City\, WI 53583
UID:e.1184.13969
SEQUENCE:3
DTSTAMP:20260424T222241Z
URL:http://members.saukprairie.com/events/details/12-sonatas-a-concert-by-trevor-stephenson-13969
END:VEVENT

END:VCALENDAR
