BEGIN:VCALENDAR
VERSION:2.0
PRODID:-//ChamberMaster//Event Calendar 2.0//EN
METHOD:PUBLISH
X-PUBLISHED-TTL:P3D
REFRESH-INTERVAL:P3D
CALSCALE:GREGORIAN
BEGIN:VEVENT
DTSTART:20161105T140000Z
DTEND:20161105T190000Z
X-MICROSOFT-CDO-ALLDAYEVENT:FALSE
SUMMARY:12th Annual Sauk Prairie Holiday Vendor Event
DESCRIPTION:November 5\, 2016 (9:00-2:00) This is an annual event for the Sauk Praiire and surrounding area's community. We provide all your shopping needs in one place to help lessen your holiday stress!
X-ALT-DESC;FMTTYPE=text/html:<span style="color: rgb(75\, 79\, 86)\; font-family: helvetica\, arial\, sans-serif\; font-size: 14px\;">November 5\, 2016 (9:00-2:00) This is an annual event for the Sauk Praiire and surrounding area&#39\;s community. We provide all your shopping needs in one place to help lessen your holiday stress!</span>
LOCATION:730 Monroe Street\, Sauk City\, WI 53583
UID:e.1184.9406
SEQUENCE:3
DTSTAMP:20260425T161151Z
URL:http://members.saukprairie.com/events/details/12th-annual-sauk-prairie-holiday-vendor-event-9406
END:VEVENT

END:VCALENDAR
