BEGIN:VCALENDAR
VERSION:2.0
PRODID:-//ChamberMaster//Event Calendar 2.0//EN
METHOD:PUBLISH
X-PUBLISHED-TTL:P3D
REFRESH-INTERVAL:P3D
CALSCALE:GREGORIAN
BEGIN:VEVENT
DTSTART;VALUE=DATE:20160408
DTEND;VALUE=DATE:20160410
TRANSP:TRANSPARENT
X-MICROSOFT-CDO-ALLDAYEVENT:TRUE
SUMMARY:14th ANNIVERSARY SALE
DESCRIPTION:14th Anniversary Sale -- samples\, specials\, on Friday\, April 8th and Saturday\, April 9th.\n\nDetails coming soon.
X-ALT-DESC;FMTTYPE=text/html:14th Anniversary Sale -- samples\, specials\, on Friday\, April 8th and Saturday\, April 9th.<br />\nDetails coming soon.
LOCATION:
UID:e.1184.7140
SEQUENCE:3
DTSTAMP:20260426T033445Z
URL:http://members.saukprairie.com/events/details/14th-anniversary-sale-04-08-2016-7140
END:VEVENT

END:VCALENDAR
