BEGIN:VCALENDAR
VERSION:2.0
PRODID:-//ChamberMaster//Event Calendar 2.0//EN
METHOD:PUBLISH
X-PUBLISHED-TTL:P3D
REFRESH-INTERVAL:P3D
CALSCALE:GREGORIAN
BEGIN:VEVENT
DTSTART:20181103T140000Z
DTEND:20181103T190000Z
X-MICROSOFT-CDO-ALLDAYEVENT:FALSE
SUMMARY:14th Annual Sauk Prairie Holiday Vendor Event
DESCRIPTION:We are so exciting that this will be our 14th Annual Holiday Vendor Fair. We have a lot of great vendors this year to help you with your Holiday shopping or personal shopping. Please stop by for a snack\, shopping and kids activity area. We unfortunately will not be having a Santa this year but going to still have treats for the Little's! \n\n\n\nWe appreciate you supporting our small businesses this Holiday Season!!! See you there!
X-ALT-DESC;FMTTYPE=text/html:<span style="color: rgb(29\, 33\, 41)\; font-family: Helvetica\, Arial\, sans-serif\; font-size: 14px\;">We are so exciting that this will be our 14th Annual Holiday Vendor Fair. We have a lot of great vendors this year to help you with your Holiday shopping or personal shopping. Please stop by for a snack\, shopping and kids activity area. We unfortunately will not be having a Santa this year but going to still have treats for the Little&#39\;s!&nbsp\;</span><br />\n<br style="color: rgb(29\, 33\, 41)\; font-family: Helvetica\, Arial\, sans-serif\; font-size: 14px\;" />\n<span style="color: rgb(29\, 33\, 41)\; font-family: Helvetica\, Arial\, sans-serif\; font-size: 14px\;">We appreciate you supporting our small businesses this Holiday Season!!! See you there!</span>
LOCATION:730 Monroe Street\, Sauk City\, WI 53583
UID:e.1184.21202
SEQUENCE:3
DTSTAMP:20260424T022404Z
URL:http://members.saukprairie.com/events/details/14th-annual-sauk-prairie-holiday-vendor-event-21202
END:VEVENT

END:VCALENDAR
