BEGIN:VCALENDAR
VERSION:2.0
PRODID:-//ChamberMaster//Event Calendar 2.0//EN
METHOD:PUBLISH
X-PUBLISHED-TTL:P3D
REFRESH-INTERVAL:P3D
CALSCALE:GREGORIAN
BEGIN:VEVENT
DTSTART;VALUE=DATE:20220710
DTEND;VALUE=DATE:20220711
TRANSP:TRANSPARENT
X-MICROSOFT-CDO-ALLDAYEVENT:TRUE
SUMMARY:17th Annual Sauk Prairie Lions Memorial Golf Tournament
DESCRIPTION:18 holes golf/cart/games/dinner/prizes\n\n	$65 LWCC Members\n	$90 non LWCC members\n	Dinner $20\n\n\n\nTee time at 12:30 - Shotgun Start - Scramble Format\n\n5:30 - Cocktails\n\n6:00 - Dinner\n\n7:00 - Awards\n\n\n\nTo register call LWCC 608-643-2405
X-ALT-DESC;FMTTYPE=text/html:18 holes golf/cart/games/dinner/prizes\n<ul>\n	<li>$65 LWCC Members</li>\n	<li>$90 non LWCC members</li>\n	<li>Dinner $20</li>\n</ul>\n<br />\nTee time at 12:30 - Shotgun Start - Scramble Format<br />\n5:30 - Cocktails<br />\n6:00 - Dinner<br />\n7:00 - Awards<br />\n<br />\nTo register call LWCC 608-643-2405
LOCATION:Lake Wisconsin Country Club: N1076 Golf Rd\, Prairie du Sac
UID:e.1184.28164
SEQUENCE:3
DTSTAMP:20260421T091458Z
URL:http://members.saukprairie.com/events/details/17th-annual-sauk-prairie-lions-memorial-golf-tournament-28164
END:VEVENT

END:VCALENDAR
