BEGIN:VCALENDAR
VERSION:2.0
PRODID:-//ChamberMaster//Event Calendar 2.0//EN
METHOD:PUBLISH
X-PUBLISHED-TTL:P3D
REFRESH-INTERVAL:P3D
CALSCALE:GREGORIAN
BEGIN:VEVENT
DTSTART;VALUE=DATE:20160924
DTEND;VALUE=DATE:20160925
TRANSP:TRANSPARENT
X-MICROSOFT-CDO-ALLDAYEVENT:TRUE
SUMMARY:1st Annual 101 Mile Ketchum's Ride
DESCRIPTION:Benefit in honor of Brandon Ketchum\n\n\n\nAll riders are welcome!\n\nCan't do all 101 miles? That's okay! Join the ride at any point or show your support by joining us at the end of the ride.\n\n\n\nNo entry free required (donations accepted)\, registration appreciated. All proceeds support "Ketchum's House" and Veterans with PTSD.\n\n\n\nFor all registrations and/or questions about this special event\, contact:\n\n\n\nBonnie (608.524.4555 or bonnie@swimreedsburg.com) \n\nKris (608.279.5334 or klarsenault1@yahoo.com)
X-ALT-DESC;FMTTYPE=text/html:Benefit in honor of Brandon Ketchum<br />\n<br />\nAll riders are welcome!<br />\nCan&#39\;t do all 101 miles? That&#39\;s okay! Join the ride at any point or show your support by joining us at the end of the ride.<br />\n<br />\nNo entry free required (donations accepted)\, registration appreciated. All proceeds support &quot\;Ketchum&#39\;s House&quot\; and Veterans with PTSD.<br />\n<br />\nFor all registrations and/or questions about this special event\, contact:<br />\n<br />\nBonnie (608.524.4555 or bonnie@swimreedsburg.com)&nbsp\;<br />\nKris (608.279.5334 or klarsenault1@yahoo.com)
LOCATION:Ride will begin in Marshland and ride our bicycles to Reedsburg ending at the VFW Club.
UID:e.1184.9364
SEQUENCE:3
DTSTAMP:20260425T192934Z
URL:http://members.saukprairie.com/events/details/1st-annual-101-mile-ketchum-s-ride-9364
END:VEVENT

END:VCALENDAR
