BEGIN:VCALENDAR
VERSION:2.0
PRODID:-//ChamberMaster//Event Calendar 2.0//EN
METHOD:PUBLISH
X-PUBLISHED-TTL:P3D
REFRESH-INTERVAL:P3D
CALSCALE:GREGORIAN
BEGIN:VEVENT
DTSTART;VALUE=DATE:20190928
DTEND;VALUE=DATE:20190929
TRANSP:TRANSPARENT
X-MICROSOFT-CDO-ALLDAYEVENT:TRUE
SUMMARY:1st Annual Bi-County Bogey Brawl
DESCRIPTION:B A R B U D D I E S L O D I & S A U K P R E S E N T :\n\n\n\n1ST ANNUAL BI-COUNTY BOGEY BRAWL\n\n\n\n$55 per golfer ($45 for members)\n\nIncludes food and a chance at cash and hole prizes!!\n\n\n\nSEPTEMBER 28TH\, 2019\n\nREGISTRATION 11AM-12PM\n\nSHOTGUN START 12:30PM\n\n4 MAN SCRAMBLE\n\nLAKE WI COUNTRY CLUB\n\n\n\nSign up today (space is limited):\n\nhttps://www.surveymonkey.com/r/XP965V5
X-ALT-DESC;FMTTYPE=text/html:<strong>B A R B U D D I E S L O D I &amp\; S A U K P R E S E N T :<br />\n<br />\n1ST ANNUAL BI-COUNTY BOGEY BRAWL</strong><br />\n<br />\n$55 per golfer ($45 for members)<br />\nIncludes food and a chance at cash and hole prizes!!<br />\n<br />\nSEPTEMBER 28TH\, 2019<br />\nREGISTRATION 11AM-12PM<br />\nSHOTGUN START 12:30PM<br />\n4&nbsp\;MAN SCRAMBLE<br />\nLAKE WI COUNTRY CLUB<br />\n<br />\nSign up today (space is limited):<br />\nhttps://www.surveymonkey.com/r/XP965V5
LOCATION:
UID:e.1184.22591
SEQUENCE:3
DTSTAMP:20260423T113343Z
URL:http://members.saukprairie.com/events/details/1st-annual-bi-county-bogey-brawl-22591
END:VEVENT

END:VCALENDAR
