BEGIN:VCALENDAR
VERSION:2.0
PRODID:-//ChamberMaster//Event Calendar 2.0//EN
METHOD:PUBLISH
X-PUBLISHED-TTL:P3D
REFRESH-INTERVAL:P3D
CALSCALE:GREGORIAN
BEGIN:VEVENT
DTSTART;VALUE=DATE:20160827
DTEND;VALUE=DATE:20160828
TRANSP:TRANSPARENT
X-MICROSOFT-CDO-ALLDAYEVENT:TRUE
SUMMARY:1st Annual Karate America SP Kickball Tournament
DESCRIPTION:We here at Karate America believe that the martial arts teach us many truths.  One of those truths is the need for balance in heart\, soul\, and community.  Because of this we are joining with 6:8 to raise money for their food pack and the SPHS Forensics Team.\n\n \n\nAll registration fees ($65) for kickball teams will go towards the 6:8 food pack.\n\nAll proceeds from the Silent Auction and Concessions during the tournament will be split 50/50 between 6:8 and the SPHS Forensics team.
X-ALT-DESC;FMTTYPE=text/html:<span style="font-size:12px\;"><span style="font-family:arial\;"><em><span style="border:none windowtext 1.0pt\;padding:0in\;">We here at Karate America believe that the martial arts teach us many truths. &nbsp\;One of those truths is the need for balance in heart\, soul\, and community. &nbsp\;Because of this we are joining with 6:8 to raise money for their food pack and the SPHS Forensics Team.</span></em><br />\n<span style="outline:0px\;"><span style="outline:0px\;"><span style="outline:0px\;"><em><span style="border:none windowtext 1.0pt\;padding:0in\;"><span style="outline:0px\;">&#8203\;</span></span></em></span></span></span><br />\n<span style="outline:0px\;"><span style="outline:0px\;"><span style="outline:0px\;"><em><span style="border:none windowtext 1.0pt\;padding:0in\;">All registration fees ($65) for kickball teams will go towards the 6:8 food pack.</span></em></span></span></span><br />\n<span style="outline:0px\;"><span style="outline:0px\;"><span style="outline:0px\;"><em><span style="border:none windowtext 1.0pt\;padding:0in\;">All proceeds from the Silent Auction and Concessions during the tournament will be split 50/50 between 6:8 and the SPHS Forensics team.</span></em></span></span></span></span></span>
LOCATION:
UID:e.1184.9091
SEQUENCE:3
DTSTAMP:20260425T224800Z
URL:http://members.saukprairie.com/events/details/1st-annual-karate-america-sp-kickball-tournament-08-27-2016-9091
END:VEVENT

END:VCALENDAR
