BEGIN:VCALENDAR
VERSION:2.0
PRODID:-//ChamberMaster//Event Calendar 2.0//EN
METHOD:PUBLISH
X-PUBLISHED-TTL:P3D
REFRESH-INTERVAL:P3D
CALSCALE:GREGORIAN
BEGIN:VEVENT
DTSTART:20220226T130000Z
DTEND:20220226T213000Z
X-MICROSOFT-CDO-ALLDAYEVENT:FALSE
SUMMARY:1st Annual Moon Valley Fisheree
DESCRIPTION:Entry Fee: $10\n\nAll monies collected to be paid out 100%\n\n1/3rd: First Fish of the Day\n\n1/3rd: Largest Fish by Weight\n\n1/3rd: Largest Stringer/Total Quantity of Fish\n\n	Pre-Register at H's Place until February 25th\n	Registration Day of: 6:30-7:30am at Moon Valley\n\nDoor Prizes to Participants\n\n\n	Raffle Drawings and Meat Paddle Raffles throughout the Day\n	50/50 Raffle to Benefit Bar Buddies\n\nFood & Beverages will be available to purchase throughout the day\n\n\n\nTournament Questions: 608-438-2857
X-ALT-DESC;FMTTYPE=text/html:Entry Fee: $10<br />\nAll monies collected to be paid out 100%<br />\n1/3rd: First Fish of the Day<br />\n1/3rd: Largest Fish by Weight<br />\n1/3rd: Largest Stringer/Total Quantity of Fish\n<ul>\n	<li>Pre-Register at H&#39\;s Place until February 25th</li>\n	<li>Registration Day of: 6:30-7:30am at Moon Valley</li>\n</ul>\nDoor Prizes to Participants\n\n<ul>\n	<li>Raffle Drawings and Meat Paddle Raffles throughout the Day</li>\n	<li>50/50 Raffle to Benefit Bar Buddies</li>\n</ul>\nFood &amp\; Beverages will be available to purchase throughout the day<br />\n<br />\nTournament Questions: 608-438-2857
LOCATION:On Lake WI & Gallus Slough Sponsored by: H's Place at Moon Valley Boat Launch E13105 Hwy 78\, Merrimac WI
UID:e.1184.27123
SEQUENCE:3
DTSTAMP:20260421T160414Z
URL:http://members.saukprairie.com/events/details/1st-annual-moon-valley-fisheree-27123
END:VEVENT

END:VCALENDAR
