BEGIN:VCALENDAR
VERSION:2.0
PRODID:-//ChamberMaster//Event Calendar 2.0//EN
METHOD:PUBLISH
X-PUBLISHED-TTL:P3D
REFRESH-INTERVAL:P3D
CALSCALE:GREGORIAN
BEGIN:VEVENT
DTSTART:20190118T010000Z
DTEND:20190118T030000Z
X-MICROSOFT-CDO-ALLDAYEVENT:FALSE
SUMMARY:2 for the Road at Vintage
DESCRIPTION:2 for the ROAD is an acoustic duo\, playing a king's mixture of Blues\, Classic Rock\, Country and Original music. Bruce Tessmer on guitar and vocals\, and Randahl Crawford on sax\, harp\, guitar\, keyboards\, and vocals.
X-ALT-DESC;FMTTYPE=text/html:<div class="_63eu" style="box-sizing: border-box\; font-size: 14px\; max-height: 260px\; overflow: hidden\; padding: 12px\; overflow-wrap: break-word\; font-family: Helvetica\, Arial\, sans-serif\; color: rgb(29\, 33\, 41)\;">\n<div class="_63ew" data-testid="event-permalink-details" style="font-family: inherit\;"><span style="color: rgb(29\, 33\, 41)\; font-family: Helvetica\, Arial\, sans-serif\; font-size: 14px\;">2 for the ROAD is an acoustic duo\, playing a king&#39\;s mixture of Blues\, Classic Rock\, Country and Original music. Bruce Tessmer on guitar and vocals\, and Randahl Crawford on sax\, harp\, guitar\, keyboards\, and vocals.</span></div>\n\n<div>&nbsp\;</div>\n</div>\n
LOCATION:Vintage Brewing Co. 600 Water St. Sauk City
UID:e.1184.21658
SEQUENCE:3
DTSTAMP:20260423T230320Z
URL:http://members.saukprairie.com/events/details/2-for-the-road-at-vintage-21658
END:VEVENT

END:VCALENDAR
