BEGIN:VCALENDAR
VERSION:2.0
PRODID:-//ChamberMaster//Event Calendar 2.0//EN
METHOD:PUBLISH
X-PUBLISHED-TTL:P3D
REFRESH-INTERVAL:P3D
CALSCALE:GREGORIAN
BEGIN:VEVENT
DTSTART:20170111T141500Z
DTEND:20170111T163000Z
X-MICROSOFT-CDO-ALLDAYEVENT:FALSE
SUMMARY:2017 Economic Outlook Breakfast
DESCRIPTION:Community is welcome to join the Bank of Prairie du Sac as they present the 2017 Economic Outlook breakfast.  Economist Dr. Steven Deller with UW-Madison will highlight economic indicators that influence our business community - locally\, regionally and nationally. \n\n\n\nThe bank has partnered with the Sauk Prairie Area Chamber of Commerce to bring the community report session to the event.  This session will feature panel discussions with local administrators on economic development in the Sauk Prairie area.
X-ALT-DESC;FMTTYPE=text/html:Community is welcome to join the Bank of Prairie du Sac as they present the 2017 Economic Outlook breakfast.&nbsp\;&nbsp\;Economist Dr. Steven&nbsp\;Deller with UW-Madison will highlight economic indicators that influence our business community - locally\, regionally and nationally.&nbsp\;<br />\n<br />\nThe bank has partnered with the Sauk Prairie Area Chamber of Commerce to bring the community report session to the event.&nbsp\; This session will feature panel discussions with local administrators on&nbsp\;economic development in the Sauk Prairie area.&nbsp\;
LOCATION:River Arts Center 105 Ninth Street Prairie du Sac\, WI 53578
UID:e.1184.9747
SEQUENCE:3
DTSTAMP:20260425T141822Z
URL:http://members.saukprairie.com/events/details/2017-economic-outlook-breakfast-9747
END:VEVENT

END:VCALENDAR
