BEGIN:VCALENDAR
VERSION:2.0
PRODID:-//ChamberMaster//Event Calendar 2.0//EN
METHOD:PUBLISH
X-PUBLISHED-TTL:P3D
REFRESH-INTERVAL:P3D
CALSCALE:GREGORIAN
BEGIN:VEVENT
DTSTART;VALUE=DATE:20170321
DTEND;VALUE=DATE:20170322
TRANSP:TRANSPARENT
X-MICROSOFT-CDO-ALLDAYEVENT:TRUE
SUMMARY:2017:Will your nonprofit SURVIVE? Will it THRIVE?
DESCRIPTION:Not sure? Do you have questions about:\n\n	 fund raising\n	 strategic planning\n	 board management\n	 volunteer development\n	 risk & fiscal management\n	 marketing & communications\n\n\n\nGet answers to these questions at:\n\nNonprofits: Meeting Today?s Challenges\n\nSponsored by United Way of Dane County\, Family Service Madison\n\nand SCORE\, this 11-session series starting March 14\, 2017 features:\n\n	 hands-on classes taught by experts in the subject matter\,\n	 flexibility in choosing units or sessions you select\,\n	 allowing different folks from your nonprofit to attend\,\n	 plenty of give-and-take to address your interests\, and\n	 free\, confidential\, one-on-one mentoring as follow-up.\n\n\n\nCOST: $175 for all 11 three-hour sessions in the five units\n\nor $50 for each of the five separate subject units. Plus $15 per\n\nadditional person from your organization per unit or session enrolled.\n\nAttendance is limited to first 30 nonprofit organizations or individuals\n\nthat register.\n\n\n\nREGISTRATION DEADLINE: MARCH 7\, 2017.\n\nSign-up by going to www.unitedwaydanecounty.org. Information is\n\nprovided on cost-sharing stipends available to support attendance.
X-ALT-DESC;FMTTYPE=text/html:<strong>Not sure? Do you have questions about:</strong>\n<ul>\n	<li>&nbsp\;fund raising</li>\n	<li>&nbsp\;strategic planning</li>\n	<li>&nbsp\;board management</li>\n	<li>&nbsp\;volunteer development</li>\n	<li>&nbsp\;risk &amp\; fiscal management</li>\n	<li>&nbsp\;marketing &amp\; communications</li>\n</ul>\n<br />\n<strong>Get answers to these questions at:</strong><br />\nNonprofits: Meeting Today?s Challenges<br />\nSponsored by United Way of Dane County\, Family Service Madison<br />\nand SCORE\, this 11-session series starting March 14\, 2017 features:\n<ul>\n	<li>&nbsp\;hands-on classes taught by experts in the subject matter\,</li>\n	<li>&nbsp\;flexibility in choosing units or sessions you select\,</li>\n	<li>&nbsp\;allowing different folks from your nonprofit to attend\,</li>\n	<li>&nbsp\;plenty of give-and-take to address your interests\, and</li>\n	<li>&nbsp\;free\, confidential\, one-on-one mentoring as follow-up.</li>\n</ul>\n<br />\n<strong>COST: $175 </strong>for all 11 three-hour sessions in the five units<br />\nor $50 for each of the five separate subject units. Plus $15 per<br />\nadditional person from your organization per unit or session enrolled.<br />\nAttendance is limited to first 30 nonprofit organizations or individuals<br />\nthat register.<br />\n<br />\n<strong>REGISTRATION DEADLINE: MARCH 7\, 2017.</strong><br />\nSign-up by going to www.unitedwaydanecounty.org. Information is<br />\nprovided on cost-sharing stipends available to support attendance.
LOCATION:All 3-hour sessions held at United Way of Dane County unless otherwise noted. Time is 5-8 p.m. on Tuesdays.
UID:e.1184.9936
SEQUENCE:3
DTSTAMP:20260425T110016Z
URL:http://members.saukprairie.com/events/details/2017-will-your-nonprofit-survive-will-it-thrive-03-21-2017-9936
END:VEVENT

END:VCALENDAR
