BEGIN:VCALENDAR
VERSION:2.0
PRODID:-//ChamberMaster//Event Calendar 2.0//EN
METHOD:PUBLISH
X-PUBLISHED-TTL:P3D
REFRESH-INTERVAL:P3D
CALSCALE:GREGORIAN
BEGIN:VEVENT
DTSTART:20180127T143000Z
DTEND:20180128T013000Z
X-MICROSOFT-CDO-ALLDAYEVENT:FALSE
SUMMARY:2018 Show Choir Competition
DESCRIPTION:33rd Annual Sauk Prairie Show Choir Invitational\n\n \n\nSaturday January 27th\n\n \n\n19 Groups competing\n\n \n\nCompetition starts at 8:00 a.m.\n\n \n\nFinals start at 7:30 p.m.
X-ALT-DESC;FMTTYPE=text/html:33<sup>rd</sup> Annual Sauk Prairie Show Choir Invitational<br />\n&nbsp\;<br />\nSaturday January 27<sup>th</sup><br />\n&nbsp\;<br />\n19 Groups competing<br />\n&nbsp\;<br />\nCompetition starts at 8:00 a.m.<br />\n&nbsp\;<br />\nFinals start at 7:30 p.m.&nbsp\;<br />\n<br />\n<br />\n&nbsp\;&nbsp\;&nbsp\;&nbsp\;<br />\n&nbsp\;
LOCATION:Sauk Prairie High School Gym
UID:e.1184.14652
SEQUENCE:3
DTSTAMP:20260424T192120Z
URL:http://members.saukprairie.com/events/details/2018-show-choir-competition-14652
END:VEVENT

END:VCALENDAR
