BEGIN:VCALENDAR
VERSION:2.0
PRODID:-//ChamberMaster//Event Calendar 2.0//EN
METHOD:PUBLISH
X-PUBLISHED-TTL:P3D
REFRESH-INTERVAL:P3D
CALSCALE:GREGORIAN
BEGIN:VEVENT
DTSTART:20180810T003000Z
DTEND:20180810T020000Z
X-MICROSOFT-CDO-ALLDAYEVENT:FALSE
SUMMARY:2018 SIMPLY GRAND SOLO PIANO TOUR
DESCRIPTION:There is no intermission on this show. Lorie plays one hour twenty minutes.\n\nShe will be greeting fans in the lobby following the performance to take photos and sign music.\n\nAge restriction for this show is 4 and up. No infants or toddlers please.
X-ALT-DESC;FMTTYPE=text/html:<p style="color: rgb(0\, 0\, 0)\; font-family: bodyFont\; font-size: medium\; background-color: rgb(252\, 252\, 252)\;"><span style="font-size: 22px\;">There is no intermission on this show.&nbsp\;</span><span style="font-size: 22px\;">Lorie plays one hour twenty minutes.</span></p>\n\n<p style="color: rgb(0\, 0\, 0)\; font-family: bodyFont\; font-size: medium\; background-color: rgb(252\, 252\, 252)\;"><span style="font-size: 22px\;">She will be greeting fans in the lobby following the performance to take photos and sign music.</span></p>\n\n<p style="color: rgb(0\, 0\, 0)\; font-family: bodyFont\; font-size: medium\; background-color: rgb(252\, 252\, 252)\;"><span style="font-size: 22px\;">Age restriction for this show is 4 and up. No infants or toddlers please.</span></p>\n
LOCATION:River Arts Center 105 9th Street Prairie du Sac\, WI 53578
UID:e.1184.20528
SEQUENCE:3
DTSTAMP:20260424T070417Z
URL:http://members.saukprairie.com/events/details/2018-simply-grand-solo-piano-tour-20528
END:VEVENT

END:VCALENDAR
