BEGIN:VCALENDAR
VERSION:2.0
PRODID:-//ChamberMaster//Event Calendar 2.0//EN
METHOD:PUBLISH
X-PUBLISHED-TTL:P3D
REFRESH-INTERVAL:P3D
CALSCALE:GREGORIAN
BEGIN:VEVENT
DTSTART;VALUE=DATE:20180809
DTEND;VALUE=DATE:20180813
TRANSP:TRANSPARENT
X-MICROSOFT-CDO-ALLDAYEVENT:TRUE
SUMMARY:2018 ZONE 5 SKEET CHAMPIONSHIPS
DESCRIPTION:WEDNESDAY\, AUGUST 8\n\n\n	CLUB OPEN FOR REGULAR BUSINESS\n	IF YOU HAVE A CAMPING RESERVATION\; YOU MAY SET-UP\n	PRACTICE FIELDS WILL BE AVAILABLE 12 PM UNTIL CLOSING\n\n\nTHURSDAY\, AUGUST 9\n\n\n	REGISTRATION OPEN\n	CLUB OPENS AT 12 PM UNTIL CLOSING FOR PRACTICE\n	CAMPING/RV SET UP\n\n\nFRIDAY\, AUG 10\n\n\n	MAIN EVENT #1: DOUBLES\; MAIN EVENT # 2: 12 GAUGE\n	OPENING CEREMONY BEFORE DOUBLES SHOOT-OFFS\n	WELCOME RECEPTION \n	\n		"EVERYTHING WISCONSIN" (Beer brats\, corn on cob\, potato salad\, cheese & sausage\, and Wisconsin Brews)\n	\n	\n\n\nSATURDAY\, AUG 11\n\n\n	MAIN EVENT #3: 20 GAUGE\; MAIN EVENT #4:  28 GAUGE\n	ZONE BANQUET AFTER SHOOT OFFS\n	GUEST TICKETS $10\n\n\nSUNDAY\, AUG 12\n\n\n	MAIN EVENT #4: 28 GAUGE (cont.)\; MAIN EVENT #5: .410 BORE\n	CLOSING CEREMONY
X-ALT-DESC;FMTTYPE=text/html:<p style="box-sizing: border-box\; border: 0px\; font-family: &quot\;Gentium Book Basic&quot\;\, serif\; font-size: 18px\; line-height: 32.4px\; margin: 0px 0px 1.1em\; padding: 0px\; word-wrap: break-word\; color: rgb(68\, 68\, 68)\;"><strong style="box-sizing: border-box\; margin-bottom: 0px\;">WEDNESDAY\, AUGUST 8</strong></p>\n\n<ul style="box-sizing: border-box\; border: 0px\; font-family: &quot\;Gentium Book Basic&quot\;\, serif\; font-size: 18px\; line-height: 32.4px\; margin: 0px 0px 1.1em 1.5em\; padding-right: 0px\; padding-left: 0px\; list-style-position: initial\; list-style-image: initial\; word-wrap: break-word\; color: rgb(68\, 68\, 68)\;">\n	<li style="box-sizing: border-box\; border: 0px\; font-family: inherit\; line-height: 30.6px\; margin: 0.5em 0px 0px\; padding: 0px\;"><em style="box-sizing: border-box\; border: 0px\; font-family: inherit\; line-height: 1\; margin: 0px\; padding: 0px\;">CLUB OPEN FOR REGULAR BUSINESS</em></li>\n	<li style="box-sizing: border-box\; border: 0px\; font-family: inherit\; line-height: 30.6px\; margin: 0.5em 0px 0px\; padding: 0px\;"><em style="box-sizing: border-box\; border: 0px\; font-family: inherit\; line-height: 1\; margin: 0px\; padding: 0px\;">IF YOU HAVE A CAMPING RESERVATION\; YOU MAY SET-UP</em></li>\n	<li style="box-sizing: border-box\; border: 0px\; font-family: inherit\; line-height: 30.6px\; margin: 0.5em 0px 0px\; padding: 0px\;"><em style="box-sizing: border-box\; border: 0px\; font-family: inherit\; line-height: 1\; margin: 0px\; padding: 0px\;">PRACTICE FIELDS WILL BE AVAILABLE 12 PM UNTIL CLOSING</em></li>\n</ul>\n\n<p style="box-sizing: border-box\; border: 0px\; font-family: &quot\;Gentium Book Basic&quot\;\, serif\; font-size: 18px\; line-height: 32.4px\; margin: 0px 0px 1.1em\; padding: 0px\; word-wrap: break-word\; color: rgb(68\, 68\, 68)\;"><strong style="box-sizing: border-box\; margin-bottom: 0px\;">THURSDAY\, AUGUST 9</strong></p>\n\n<ul style="box-sizing: border-box\; border: 0px\; font-family: &quot\;Gentium Book Basic&quot\;\, serif\; font-size: 18px\; line-height: 32.4px\; margin: 0px 0px 1.1em 1.5em\; padding-right: 0px\; padding-left: 0px\; list-style-position: initial\; list-style-image: initial\; word-wrap: break-word\; color: rgb(68\, 68\, 68)\;">\n	<li style="box-sizing: border-box\; border: 0px\; font-family: inherit\; line-height: 30.6px\; margin: 0.5em 0px 0px\; padding: 0px\;"><em style="box-sizing: border-box\; border: 0px\; font-family: inherit\; line-height: 1\; margin: 0px\; padding: 0px\;">REGISTRATION OPEN</em></li>\n	<li style="box-sizing: border-box\; border: 0px\; font-family: inherit\; line-height: 30.6px\; margin: 0.5em 0px 0px\; padding: 0px\;"><em style="box-sizing: border-box\; border: 0px\; font-family: inherit\; line-height: 1\; margin: 0px\; padding: 0px\;">CLUB OPENS AT 12 PM UNTIL CLOSING FOR PRACTICE</em></li>\n	<li style="box-sizing: border-box\; border: 0px\; font-family: inherit\; line-height: 30.6px\; margin: 0.5em 0px 0px\; padding: 0px\;"><em style="box-sizing: border-box\; border: 0px\; font-family: inherit\; line-height: 1\; margin: 0px\; padding: 0px\;">CAMPING/RV SET UP</em></li>\n</ul>\n\n<p style="box-sizing: border-box\; border: 0px\; font-family: &quot\;Gentium Book Basic&quot\;\, serif\; font-size: 18px\; line-height: 32.4px\; margin: 0px 0px 1.1em\; padding: 0px\; word-wrap: break-word\; color: rgb(68\, 68\, 68)\;"><strong style="box-sizing: border-box\; margin-bottom: 0px\;">FRIDAY\, AUG 10</strong></p>\n\n<ul style="box-sizing: border-box\; border: 0px\; font-family: &quot\;Gentium Book Basic&quot\;\, serif\; font-size: 18px\; line-height: 32.4px\; margin: 0px 0px 1.1em 1.5em\; padding-right: 0px\; padding-left: 0px\; list-style-position: initial\; list-style-image: initial\; word-wrap: break-word\; color: rgb(68\, 68\, 68)\;">\n	<li style="box-sizing: border-box\; border: 0px\; font-family: inherit\; line-height: 30.6px\; margin: 0.5em 0px 0px\; padding: 0px\;"><em style="box-sizing: border-box\; border: 0px\; font-family: inherit\; line-height: 1\; margin: 0px\; padding: 0px\;">MAIN EVENT #1: DOUBLES\; MAIN EVENT # 2: 12 GAUGE</em></li>\n	<li style="box-sizing: border-box\; border: 0px\; font-family: inherit\; line-height: 30.6px\; margin: 0.5em 0px 0px\; padding: 0px\;"><em style="box-sizing: border-box\; border: 0px\; font-family: inherit\; line-height: 1\; margin: 0px\; padding: 0px\;">OPENING CEREMONY BEFORE DOUBLES SHOOT-OFFS</em></li>\n	<li style="box-sizing: border-box\; border: 0px\; font-family: inherit\; line-height: 30.6px\; margin: 0.5em 0px 0px\; padding: 0px\;"><em style="box-sizing: border-box\; border: 0px\; font-family: inherit\; line-height: 1\; margin: 0px\; padding: 0px\;">WELCOME RECEPTION&mdash\;</em>\n	<ul style="box-sizing: border-box\; border: 0px\; font-family: inherit\; line-height: 32.4px\; margin: 0px 0px 0px 1.5em\; padding-right: 0px\; padding-left: 0px\; list-style-position: initial\; list-style-image: initial\; word-wrap: break-word\;">\n		<li style="box-sizing: border-box\; border: 0px\; font-family: inherit\; line-height: 30.6px\; margin: 0.5em 0px 0px\; padding: 0px\;"><strong style="box-sizing: border-box\;"><em style="box-sizing: border-box\; border: 0px\; font-family: inherit\; line-height: 1\; margin: 0px\; padding: 0px\;">&ldquo\;EVERYTHING WISCONSIN&rdquo\;&nbsp\;</em></strong><em style="box-sizing: border-box\; border: 0px\; font-family: inherit\; line-height: 1\; margin: 0px\; padding: 0px\;">(Beer brats\, corn on cob\, potato salad\, cheese &amp\; sausage\, and Wisconsin Brews)</em></li>\n	</ul>\n	</li>\n</ul>\n\n<p style="box-sizing: border-box\; border: 0px\; font-family: &quot\;Gentium Book Basic&quot\;\, serif\; font-size: 18px\; line-height: 32.4px\; margin: 0px 0px 1.1em\; padding: 0px\; word-wrap: break-word\; color: rgb(68\, 68\, 68)\;"><strong style="box-sizing: border-box\; margin-bottom: 0px\;">SATURDAY\, AUG 11</strong></p>\n\n<ul style="box-sizing: border-box\; border: 0px\; font-family: &quot\;Gentium Book Basic&quot\;\, serif\; font-size: 18px\; line-height: 32.4px\; margin: 0px 0px 1.1em 1.5em\; padding-right: 0px\; padding-left: 0px\; list-style-position: initial\; list-style-image: initial\; word-wrap: break-word\; color: rgb(68\, 68\, 68)\;">\n	<li style="box-sizing: border-box\; border: 0px\; font-family: inherit\; line-height: 30.6px\; margin: 0.5em 0px 0px\; padding: 0px\;"><em style="box-sizing: border-box\; border: 0px\; font-family: inherit\; line-height: 1\; margin: 0px\; padding: 0px\;">MAIN EVENT #3: 20 GAUGE\; MAIN EVENT #4:&nbsp\; 28 GAUGE</em></li>\n	<li style="box-sizing: border-box\; border: 0px\; font-family: inherit\; line-height: 30.6px\; margin: 0.5em 0px 0px\; padding: 0px\;"><em style="box-sizing: border-box\; border: 0px\; font-family: inherit\; line-height: 1\; margin: 0px\; padding: 0px\;">ZONE BANQUET AFTER SHOOT OFFS</em></li>\n	<li style="box-sizing: border-box\; border: 0px\; font-family: inherit\; line-height: 30.6px\; margin: 0.5em 0px 0px\; padding: 0px\;"><em style="box-sizing: border-box\; border: 0px\; font-family: inherit\; line-height: 1\; margin: 0px\; padding: 0px\;">GUEST TICKETS $10</em></li>\n</ul>\n\n<p style="box-sizing: border-box\; border: 0px\; font-family: &quot\;Gentium Book Basic&quot\;\, serif\; font-size: 18px\; line-height: 32.4px\; margin: 0px 0px 1.1em\; padding: 0px\; word-wrap: break-word\; color: rgb(68\, 68\, 68)\;"><strong style="box-sizing: border-box\; margin-bottom: 0px\;">SUNDAY\, AUG 12</strong></p>\n\n<ul style="box-sizing: border-box\; border: 0px\; font-family: &quot\;Gentium Book Basic&quot\;\, serif\; font-size: 18px\; line-height: 32.4px\; margin: 0px 0px 1.1em 1.5em\; padding-right: 0px\; padding-left: 0px\; list-style-position: initial\; list-style-image: initial\; word-wrap: break-word\; color: rgb(68\, 68\, 68)\;">\n	<li style="box-sizing: border-box\; border: 0px\; font-family: inherit\; line-height: 30.6px\; margin: 0.5em 0px 0px\; padding: 0px\;"><em style="box-sizing: border-box\; border: 0px\; font-family: inherit\; line-height: 1\; margin: 0px\; padding: 0px\;">MAIN EVENT #4: 28 GAUGE (cont.)\; MAIN EVENT #5: .410 BORE</em></li>\n	<li style="box-sizing: border-box\; border: 0px\; font-family: inherit\; line-height: 30.6px\; margin: 0.5em 0px 0px\; padding: 0px\;"><em style="box-sizing: border-box\; border: 0px\; font-family: inherit\; line-height: 1\; margin: 0px\; padding: 0px\;">CLOSING CEREMONY</em></li>\n</ul>\n
LOCATION:Sauk Prairie Trap & Skeet Club E11102 Sauk Prairie Road Prairie du Sac
UID:e.1184.20479
SEQUENCE:3
DTSTAMP:20260424T065307Z
URL:http://members.saukprairie.com/events/details/2018-zone-5-skeet-championships-20479
END:VEVENT

END:VCALENDAR
