BEGIN:VCALENDAR
VERSION:2.0
PRODID:-//ChamberMaster//Event Calendar 2.0//EN
METHOD:PUBLISH
X-PUBLISHED-TTL:P3D
REFRESH-INTERVAL:P3D
CALSCALE:GREGORIAN
BEGIN:VEVENT
DTSTART:20190220T140000Z
DTEND:20190220T163000Z
X-MICROSOFT-CDO-ALLDAYEVENT:FALSE
SUMMARY:2019 Economic Outlook
DESCRIPTION:The community is welcome to join the Bank of Prairie du Sac as they present the 2019 Economic Outlook.  Economist Dr. Steven Deller with UW -Madison will highlight economic indicators that influence our business community - locally\, regionally and nationally.   Local municipal and school administrators will share updates on community projects and areas of work.
X-ALT-DESC;FMTTYPE=text/html:The community is welcome to join the Bank of Prairie du Sac as they present the 2019 Economic Outlook.&nbsp\;&nbsp\;Economist Dr. Steven&nbsp\;Deller with UW -Madison will highlight economic indicators that influence our business community - locally\, regionally and nationally.&nbsp\;&nbsp\; Local municipal and school administrators will share updates on community projects and areas of work.&nbsp\; &nbsp\;
LOCATION:River Arts Center 105 Ninth Street Prairie du Sac\, WI 53578
UID:e.1184.21352
SEQUENCE:3
DTSTAMP:20260423T213009Z
URL:http://members.saukprairie.com/events/details/2019-economic-outlook-21352
END:VEVENT

END:VCALENDAR
