BEGIN:VCALENDAR
VERSION:2.0
PRODID:-//ChamberMaster//Event Calendar 2.0//EN
METHOD:PUBLISH
X-PUBLISHED-TTL:P3D
REFRESH-INTERVAL:P3D
CALSCALE:GREGORIAN
BEGIN:VEVENT
DTSTART:20191102T140000Z
DTEND:20191102T190000Z
X-MICROSOFT-CDO-ALLDAYEVENT:FALSE
SUMMARY:2019 Sauk Prairie Holiday Vendor Fair
DESCRIPTION:We are so exciting that this will be our 15th Annual Holiday Vendor Fair. We have a lot of great vendors this year to help you with your Holiday shopping or personal shopping. Please stop by for a snack\, shopping and Santa! \n\n\n\nBring in your holiday letter because .... Mr. & Mrs. Clause will be joining us from 9 - Noon! \n\n\n\n(Plus Santa will be sending a note back to the children with return addresses) \n\n\n\nWe appreciate you supporting our small businesses this Holiday Season!!! See you there!
X-ALT-DESC;FMTTYPE=text/html:<span style="color: rgb(29\, 33\, 41)\; font-family: Helvetica\, Arial\, sans-serif\; font-size: 14px\; white-space: pre-wrap\;">We are so exciting that this will be our 15th Annual Holiday Vendor Fair. We have a lot of great vendors this year to help you with your Holiday shopping or personal shopping. Please stop by for a snack\, shopping and Santa! </span><br />\n<br style="color: rgb(29\, 33\, 41)\; font-family: Helvetica\, Arial\, sans-serif\; font-size: 14px\; white-space: pre-wrap\;" />\n<span style="color: rgb(29\, 33\, 41)\; font-family: Helvetica\, Arial\, sans-serif\; font-size: 14px\; white-space: pre-wrap\;">Bring in your holiday letter because .... Mr. &amp\; Mrs. Clause will be joining us from 9 - Noon! </span><br />\n<br style="color: rgb(29\, 33\, 41)\; font-family: Helvetica\, Arial\, sans-serif\; font-size: 14px\; white-space: pre-wrap\;" />\n<span style="color: rgb(29\, 33\, 41)\; font-family: Helvetica\, Arial\, sans-serif\; font-size: 14px\; white-space: pre-wrap\;">(Plus Santa will be sending a note back to the children with return addresses) </span><br />\n<br style="color: rgb(29\, 33\, 41)\; font-family: Helvetica\, Arial\, sans-serif\; font-size: 14px\; white-space: pre-wrap\;" />\n<span style="color: rgb(29\, 33\, 41)\; font-family: Helvetica\, Arial\, sans-serif\; font-size: 14px\; white-space: pre-wrap\;">We appreciate you supporting our small businesses this Holiday Season!!! See you there!</span>
LOCATION:730 Monroe St. Sauk City
UID:e.1184.22713
SEQUENCE:3
DTSTAMP:20260423T083614Z
URL:http://members.saukprairie.com/events/details/2019-sauk-prairie-holiday-vendor-fair-22713
END:VEVENT

END:VCALENDAR
