BEGIN:VCALENDAR
VERSION:2.0
PRODID:-//ChamberMaster//Event Calendar 2.0//EN
METHOD:PUBLISH
X-PUBLISHED-TTL:P3D
REFRESH-INTERVAL:P3D
CALSCALE:GREGORIAN
BEGIN:VEVENT
DTSTART:20200115T140000Z
DTEND:20200115T163000Z
X-MICROSOFT-CDO-ALLDAYEVENT:FALSE
SUMMARY:2020 Economic Outlook
DESCRIPTION:The community is welcome to join the Bank of Prairie du Sac as they present the 2020 Economic Outlook.  Economist Dr. Steven Deller with UW -Madison will highlight economic indicators that influence our business community - locally\, regionally and nationally.   Local municipal and school administrators will share updates on community projects and areas of work.
X-ALT-DESC;FMTTYPE=text/html:The community is welcome to join the Bank of Prairie du Sac as they present the 2020 Economic Outlook.&nbsp\;&nbsp\;Economist Dr. Steven&nbsp\;Deller with UW -Madison will highlight economic indicators that influence our business community - locally\, regionally and nationally.&nbsp\;&nbsp\; Local municipal and school administrators will share updates on community projects and areas of work.&nbsp\; &nbsp\;
LOCATION:River Arts Center 105 Ninth Street Prairie du Sac\, WI 53578
UID:e.1184.23698
SEQUENCE:3
DTSTAMP:20260423T053623Z
URL:http://members.saukprairie.com/events/details/2020-economic-outlook-23698
END:VEVENT

END:VCALENDAR
