BEGIN:VCALENDAR
VERSION:2.0
PRODID:-//ChamberMaster//Event Calendar 2.0//EN
METHOD:PUBLISH
X-PUBLISHED-TTL:P3D
REFRESH-INTERVAL:P3D
CALSCALE:GREGORIAN
BEGIN:VEVENT
DTSTART:20200924T170000Z
DTEND:20200924T180000Z
X-MICROSOFT-CDO-ALLDAYEVENT:FALSE
SUMMARY:2021 HR Trends: New World of Work -- Are you keeping up?
DESCRIPTION:We live in an era of constant innovation and change. Yet trying to keep up with the latest HR strategies and trends while managing your day-to-day work is challenging.  Annually\, QTI surveys hundreds of employers to better understand HR challenges and leading trends to overcome these challenges.  This survey explores topics such as talent attraction and engagement strategies\, compensation and benefit plans\, diversity and inclusion programs\, and more.  Join us as we share QTI's latest survey results where we will provide you with data to drive decision making and actionable solutions to help your organization reach its full potential through people.  Session attendees will receive a complimentary copy of survey results to support their 2021 HR strategic plans.\n\n\n\nLearning Objectives\n\n	Learn the top HR trends and what high performing organizations are doing to attract\, retain\, and engage talent.\n	Learn the compensation and benefit trends to budget appropriately for your 2021 payroll.\n	Learn how your organization can enhance its HR practices to be more competitive in the new world of work.\n\n \n\nPresenter Information\n\nSummer Rector\, SHRM-SCP\n\nVice President\, HR Consulting at The QTI Group\n\n \n\nSummer is QTI's VP\, HR Consulting and previously worked at Mercer\, DayNine-Accenture\, and HCSC. Summer also serves as a SHRM Learning System instructor\, Graduate School of Banking   HR Management School faculty member\, and UW-Madison HR guest lecturer. She holds a Bachelor of Business Administration degree in Management and Human Resources from UW-Madison and the SHRM-SCP designation.
X-ALT-DESC;FMTTYPE=text/html:We live in an era of constant innovation and change. Yet trying to keep up with the latest HR strategies and trends while managing your day-to-day work is challenging.&nbsp\; Annually\, QTI surveys hundreds of employers to better understand HR challenges and leading trends to overcome these challenges.&nbsp\; This survey explores topics such as talent attraction and engagement strategies\, compensation and benefit plans\, diversity and inclusion programs\, and more.&nbsp\; Join us as we share QTI&rsquo\;s latest survey results where we will provide you with data to drive decision making and actionable solutions to help your organization reach its full potential through people.&nbsp\; Session attendees will receive a complimentary copy of survey results to support their 2021 HR strategic plans.<br />\n<br />\n<strong><span style="color:#26ACE2\;">Learning Objectives</span></strong>\n<ul>\n	<li style="margin-top:0in\;margin-right:0in\;margin-bottom:0in\;">Learn the top HR trends and what high performing organizations are doing to attract\, retain\, and engage talent.</li>\n	<li style="margin-top:0in\;margin-right:0in\;margin-bottom:0in\;">Learn the compensation and benefit trends to budget appropriately for your 2021 payroll.</li>\n	<li style="margin-top:0in\;margin-right:0in\;margin-bottom:0in\;">Learn how your organization can enhance its HR practices to be more competitive in the new world of work.</li>\n</ul>\n&nbsp\;<br />\n<strong><span style="color:#26ACE2\;">Presenter Information</span></strong><br />\nSummer Rector\, SHRM-SCP<br />\nVice President\, HR Consulting at The QTI Group<br />\n&nbsp\;<br />\nSummer is QTI&rsquo\;s VP\, HR Consulting and previously worked at Mercer\, DayNine-Accenture\, and HCSC. Summer also serves as a SHRM Learning System instructor\, Graduate School of Banking &ndash\; HR Management School faculty member\, and UW-Madison HR guest lecturer. She holds a Bachelor of Business Administration degree in Management and Human Resources from UW-Madison and the SHRM-SCP designation.&nbsp\;
LOCATION:Virtual Training Register here: https://us02web.zoom.us/webinar/register/WN_jbffpbZoQvOSEXBLRvtBbA
UID:e.1184.26073
SEQUENCE:3
DTSTAMP:20260422T165817Z
URL:http://members.saukprairie.com/events/details/2021-hr-trends-new-world-of-work-are-you-keeping-up-26073
END:VEVENT

END:VCALENDAR
