BEGIN:VCALENDAR
VERSION:2.0
PRODID:-//ChamberMaster//Event Calendar 2.0//EN
METHOD:PUBLISH
X-PUBLISHED-TTL:P3D
REFRESH-INTERVAL:P3D
CALSCALE:GREGORIAN
BEGIN:VEVENT
DTSTART;VALUE=DATE:20210625
DTEND;VALUE=DATE:20210628
TRANSP:TRANSPARENT
X-MICROSOFT-CDO-ALLDAYEVENT:TRUE
SUMMARY:2021 Inaugural Kolar US Open
DESCRIPTION:2021 U.S. OPEN SKEET iSHOOT\n\n\n\n500 TARGETS - 4 Guns plus Doubles\n\n\n\nFRIDAY\, June 25\n\nEvent #1 - DBLs: 3 pm\, 4 pm\, 5 pm\n\n\n\nSATURDAY\, June 26 (3 rotations each)\n\nEvent #2 - 12 Gauge\; Event #3 - 20 Gauge\n\n\n\nSUNDAY\, June 27 (3 rotations each)\n\nEvent #4 - 28 Gauge\; Event #5 - .410 Bore\n\n\n\nSauk Prairie Trap & Skeet has 7 skeet fields with shelters\, a spacious clubhouse with a lunch kitchen\,\n\ncamper sites with water & electricity (reservations required)\, and hotel accommodations in Sauk City (5 min)\, Baraboo (20 min)\, and Madison (25 min). For the family\, popular Wisconsin Dells and spectacular Devils Lake State Park (with eagle watching) is nearby. June temps range from 80 (daytime) to 58 (evening).\n\n\n\nThe Club will host a Friday Welcome Reception and a Saturday evening Dinner\n\nSPT&S is proud to host the U.S. OPEN iShoot Skeet Championships. We offer perfect targets\, a great\n\nbackground\, certified referees\, RV camping\, and many local attractions with good ol' Wisconsin hospitality.\n\n\n\nENTRY FEES: $64 for Events #1-5\, $10 returned to class\n\nand HOA - $15 returned to class\n\n\n\nOptions will be available. NSSA rules apply.\n\n\n\nSauk-Prairie Trap & Skeet is one of multiple clubs that will host the 2021 U.S. Open Skeet Championships using an internet iShoot format - the first ever for the U.S. Open.\n\n\n\nShooters & their families thoughout the country are invited.\n\n\n\nSauk Prairie\n\nTrap & Skeet Cub\n\nE11102 Sauk Prairie Rd.\, Prairie du Sac\,\n\nWisconsin 53578 - Ph: 608-643-4844\n\n\n\nFor details about the U.S. Open iShoot format\, clubs\, & registration - go to: https://nssausopen.com/qa\n\nrevised 04-15-2021\n\n\n\nOnline pre-registration is required and is now open by using the NSSA US Open iShoot website (see below). The printed program is available: https://nssausopen.com/2021_156929.pdf.\n\n\n\nFor SPT&S club information\, maps\, & local amenities\, go to: www.sauktrapandskt.com COVID-19 safety guidelines will be in effect\n\n\n\nCONTACT: Paul Friesen\n\nSPT&S Skeet\n\npfriesen@wisc.edu\n\n608-333-4427
X-ALT-DESC;FMTTYPE=text/html:2021 U.S. OPEN SKEET iSHOOT<br />\n<br />\n500 TARGETS - 4 Guns plus Doubles<br />\n<br />\n<strong>FRIDAY\, June 25</strong><br />\nEvent #1 - DBLs: 3 pm\, 4 pm\, 5 pm<br />\n<br />\n<strong>SATURDAY\, June 26</strong> (3 rotations each)<br />\nEvent #2 - 12 Gauge\; Event #3 - 20 Gauge<br />\n<br />\n<strong>SUNDAY\, June 27</strong> (3 rotations each)<br />\nEvent #4 - 28 Gauge\; Event #5 - .410 Bore<br />\n<br />\nSauk Prairie Trap &amp\; Skeet has 7 skeet fields with shelters\, a spacious clubhouse with a lunch kitchen\,<br />\ncamper sites with water &amp\; electricity (reservations required)\, and hotel accommodations in Sauk City (5 min)\, Baraboo (20 min)\, and Madison (25 min). For the family\, popular Wisconsin Dells and spectacular Devils Lake State Park (with eagle watching) is nearby. June temps range from 80 (daytime) to 58 (evening).<br />\n<br />\nThe Club will host a Friday Welcome Reception and a Saturday evening Dinner<br />\nSPT&amp\;S is proud to host the U.S. OPEN iShoot Skeet Championships. We offer perfect targets\, a great<br />\nbackground\, certified referees\, RV camping\, and many local attractions with good ol&rsquo\; Wisconsin hospitality.<br />\n<br />\nENTRY FEES: $64 for Events #1-5\, $10 returned to class<br />\nand HOA - $15 returned to class<br />\n<br />\nOptions will be available. NSSA rules apply.<br />\n<br />\nSauk-Prairie Trap &amp\; Skeet is one of multiple clubs that will host the 2021 U.S. Open Skeet Championships using an internet iShoot format - the first ever for the U.S. Open.<br />\n<br />\nShooters &amp\; their families thoughout the country are invited.<br />\n<br />\nSauk Prairie<br />\nTrap &amp\; Skeet Cub<br />\nE11102 Sauk Prairie Rd.\, Prairie du Sac\,<br />\nWisconsin 53578 - Ph: 608-643-4844<br />\n<br />\nFor details about the U.S. Open iShoot format\, clubs\, &amp\; registration - go to: https://nssausopen.com/qa<br />\nrevised 04-15-2021<br />\n<br />\nOnline pre-registration is required and is now open by using the NSSA US Open iShoot website (see below). The printed program is available: https://nssausopen.com/2021_156929.pdf.<br />\n<br />\nFor SPT&amp\;S club information\, maps\, &amp\; local amenities\, go to: www.sauktrapandskt.com COVID-19 safety guidelines will be in effect<br />\n<br />\nCONTACT: Paul Friesen<br />\nSPT&amp\;S Skeet<br />\npfriesen@wisc.edu<br />\n608-333-4427
LOCATION:
UID:e.1184.26670
SEQUENCE:3
DTSTAMP:20260422T035831Z
URL:http://members.saukprairie.com/events/details/2021-inaugural-kolar-us-open-26670
END:VEVENT

END:VCALENDAR
