BEGIN:VCALENDAR
VERSION:2.0
PRODID:-//ChamberMaster//Event Calendar 2.0//EN
METHOD:PUBLISH
X-PUBLISHED-TTL:P3D
REFRESH-INTERVAL:P3D
CALSCALE:GREGORIAN
BEGIN:VEVENT
DTSTART;VALUE=DATE:20211008
DTEND;VALUE=DATE:20211011
TRANSP:TRANSPARENT
X-MICROSOFT-CDO-ALLDAYEVENT:TRUE
SUMMARY:2021 MadTown Yarn Shop Hop
DESCRIPTION:The Madtown Yarn Shop Hop is an annual event that started in 2017 as a way to celebrate our local fiber community and support small\, locally owned businesses in Madison\, Wisconsin\, and the surrounding area. Over the years\, the Shop Hop has expanded to include different farms and mills to round out the experience.\n\nThis year we have 14 wonderful locations for you to visit throughout the weekend of October 8th\, 9th\, and 10th.\n\nDue to the COVID-19 situation\, there will be safety precautions in place at each location. Please be respectful\, understanding\, and patient with staff and other customers as we try to keep everyone safe.\n\n\n\nFlaxen Fleece\, formerly D Marie Knit and Fiber\, is located in Sauk City on the beautiful Wisconsin river. We carry an array of yarns from top designer brands to the tried-and-true staples. We have a passion for fiber that is shown through classes offered and ready-made items available for purchase.
X-ALT-DESC;FMTTYPE=text/html:<div class="kvgmc6g5 cxmmr5t8 oygrvhab hcukyx3x c1et5uql" style="overflow-wrap: break-word\; margin: 0px\; font-family: &quot\;Segoe UI Historic&quot\;\, &quot\;Segoe UI&quot\;\, Helvetica\, Arial\, sans-serif\; color: rgb(5\, 5\, 5)\; font-size: 15px\;">The Madtown Yarn Shop Hop is an annual event that started in 2017 as a way to celebrate our local fiber community and support small\, locally owned businesses in Madison\, Wisconsin\, and the surrounding area. Over the years\, the Shop Hop has expanded to include different farms and mills to round out the experience.</div>\n\n<div class="o9v6fnle cxmmr5t8 oygrvhab hcukyx3x c1et5uql" style="overflow-wrap: break-word\; margin: 0.5em 0px 0px\; font-family: &quot\;Segoe UI Historic&quot\;\, &quot\;Segoe UI&quot\;\, Helvetica\, Arial\, sans-serif\; color: rgb(5\, 5\, 5)\; font-size: 15px\;">This year we have 14 wonderful locations for you to visit throughout the weekend of October 8th\, 9th\, and 10th.</div>\n\n<div class="o9v6fnle cxmmr5t8 oygrvhab hcukyx3x c1et5uql" style="overflow-wrap: break-word\; margin: 0.5em 0px 0px\; font-family: &quot\;Segoe UI Historic&quot\;\, &quot\;Segoe UI&quot\;\, Helvetica\, Arial\, sans-serif\; color: rgb(5\, 5\, 5)\; font-size: 15px\;">Due to the COVID-19 situation\, there will be safety precautions in place at each location. Please be respectful\, understanding\, and patient with staff and other customers as we try to keep everyone safe.<br />\n<br />\n<span style="color: rgb(82\, 51\, 13)\; font-family: futura-lt-w01-light\, sans-serif\; font-size: 22px\; text-align: center\;">Flaxen Fleece\, formerly D Marie Knit and Fiber\, is located in Sauk City on the beautiful Wisconsin river. We carry an array of yarns from top designer brands to the tried-and-true staples. We have a passion for fiber that is shown through classes offered and ready-made items available for purchase.</span></div>\n
LOCATION:800 Water Street\, Sauk City WI 53583
UID:e.1184.26900
SEQUENCE:3
DTSTAMP:20260421T215510Z
URL:http://members.saukprairie.com/events/details/2021-madtown-yarn-shop-hop-26900
END:VEVENT

END:VCALENDAR
