BEGIN:VCALENDAR
VERSION:2.0
PRODID:-//ChamberMaster//Event Calendar 2.0//EN
METHOD:PUBLISH
X-PUBLISHED-TTL:P3D
REFRESH-INTERVAL:P3D
CALSCALE:GREGORIAN
BEGIN:VEVENT
DTSTART:20210814T170000Z
DTEND:20210815T030000Z
X-MICROSOFT-CDO-ALLDAYEVENT:FALSE
SUMMARY:2021 Sauk County Pride!!
DESCRIPTION:Drag Show at 7pm\n\nMusic | Food & Beverage Vendors | Silent Auction | Beer Tent\n\n\n\nClick here to donate\n\n\n\n50/50 Raffle tickets are now available at any one of the following local establishments!\n\nBARABOO\n\nBrothers on Oak -412 Oak St 608-356-8000\n\nBarabrew -503 South Blvd 608-448-4747\n\nCon Amici -126 3rd St 608-355-9463\n\nRed Shed -1139 8th St 608-415-9199\n\nRecycled Sally's -124 3rd St 608-356-2212\n\nREEDSBURG\n\nJ's Pub & Grill -280 Viking Dr. 608-768-0623\n\nLA Bombita -2670 G E. Main St 608-495-6088
X-ALT-DESC;FMTTYPE=text/html:<div class="kvgmc6g5 cxmmr5t8 oygrvhab hcukyx3x c1et5uql" style="overflow-wrap: break-word\; margin: 0px\; font-family: &quot\;Segoe UI Historic&quot\;\, &quot\;Segoe UI&quot\;\, Helvetica\, Arial\, sans-serif\; color: rgb(5\, 5\, 5)\; font-size: 15px\;"><span style="font-size:24px\;"><strong>Drag Show at 7pm</strong></span><br />\n<em><span style="font-size:20px\;">Music | Food &amp\; Beverage Vendors | Silent Auction | Beer Tent</span></em><br />\n<br />\n<a href="https://chambermaster.blob.core.windows.net/userfiles/UserFiles/chambers/1184/File/20210728115305.pdf">Click here to donate</a><br />\n<br />\n50/50 Raffle tickets are now available at any one of the following local establishments!</div>\n\n<div class="o9v6fnle cxmmr5t8 oygrvhab hcukyx3x c1et5uql" style="overflow-wrap: break-word\; margin: 0.5em 0px 0px\; font-family: &quot\;Segoe UI Historic&quot\;\, &quot\;Segoe UI&quot\;\, Helvetica\, Arial\, sans-serif\; color: rgb(5\, 5\, 5)\; font-size: 15px\;">BARABOO<br />\nBrothers on Oak -412 Oak St 608-356-8000<br />\nBarabrew -503 South Blvd 608-448-4747<br />\nCon Amici -126 3rd St 608-355-9463<br />\nRed Shed -1139 8th St 608-415-9199<br />\nRecycled Sally&#39\;s -124 3rd St 608-356-2212</div>\n\n<div class="o9v6fnle cxmmr5t8 oygrvhab hcukyx3x c1et5uql" style="overflow-wrap: break-word\; margin: 0.5em 0px 0px\; font-family: &quot\;Segoe UI Historic&quot\;\, &quot\;Segoe UI&quot\;\, Helvetica\, Arial\, sans-serif\; color: rgb(5\, 5\, 5)\; font-size: 15px\;">REEDSBURG<br />\nJ&#39\;s Pub &amp\; Grill -280 Viking Dr. 608-768-0623<br />\nLA Bombita -2670 G E. Main St 608-495-6088</div>\n
LOCATION:Sauk County Fairgrounds
UID:e.1184.26696
SEQUENCE:3
DTSTAMP:20260422T003327Z
URL:http://members.saukprairie.com/events/details/2021-sauk-county-pride-26696
END:VEVENT

END:VCALENDAR
