BEGIN:VCALENDAR
VERSION:2.0
PRODID:-//ChamberMaster//Event Calendar 2.0//EN
METHOD:PUBLISH
X-PUBLISHED-TTL:P3D
REFRESH-INTERVAL:P3D
CALSCALE:GREGORIAN
BEGIN:VEVENT
DTSTART:20210512T180000Z
DTEND:20210512T190000Z
X-MICROSOFT-CDO-ALLDAYEVENT:FALSE
SUMMARY:2021 Tourism Trends
DESCRIPTION:"2021 Tourism Trends" presented by Drew Nussbaum of the Wisconsin Department of Tourism on May 12th from 1:00   2:00. Drew will discuss what he is seeing in terms of tourism trends for the remainder of 2021 and what you could implement to attract more customers.\n\n\n\nIn addition to Drew's presentation\, we will get a chance to hear from Sauk County's new Public Health Director\, Treemanisha Stewart\, on what we can do to ensure our customers and employees feel safe during the upcoming tourism season.\n\n \n\nRegister here:https://us02web.zoom.us/meeting/register/tZUsde-hqDMuH9Z0H24FGw0Bq-MmqlIv7Adx
X-ALT-DESC;FMTTYPE=text/html:<div class="kvgmc6g5 cxmmr5t8 oygrvhab hcukyx3x c1et5uql ii04i59q" style="overflow-wrap: break-word\; margin: 0px\; white-space: pre-wrap\; font-family: &quot\;Segoe UI Historic&quot\;\, &quot\;Segoe UI&quot\;\, Helvetica\, Arial\, sans-serif\; color: rgb(5\, 5\, 5)\; font-size: 15px\;">\n<div dir="auto" style="font-family: inherit\;">&ldquo\;2021 Tourism Trends&rdquo\; presented by Drew Nussbaum of the Wisconsin Department of Tourism on May 12th from 1:00 &ndash\; 2:00. Drew will discuss what he is seeing in terms of tourism trends for the remainder of 2021 and what you could implement to attract more customers.</div>\n</div>\n\n<div class="o9v6fnle cxmmr5t8 oygrvhab hcukyx3x c1et5uql ii04i59q" style="overflow-wrap: break-word\; margin: 0.5em 0px 0px\; white-space: pre-wrap\; font-family: &quot\;Segoe UI Historic&quot\;\, &quot\;Segoe UI&quot\;\, Helvetica\, Arial\, sans-serif\; color: rgb(5\, 5\, 5)\; font-size: 15px\;">\n<div dir="auto" style="font-family: inherit\;">In addition to Drew&rsquo\;s presentation\, we will get a chance to hear from Sauk County&rsquo\;s new Public Health Director\, Treemanisha Stewart\, on what we can do to ensure our customers and employees feel safe during the upcoming tourism season.<br />\n&nbsp\;</div>\n</div>\n<span style="font-family:calibri\,sans-serif\;"><span style="font-size:11.0pt\;">Register here:<a href="https://us02web.zoom.us/meeting/register/tZUsde-hqDMuH9Z0H24FGw0Bq-MmqlIv7Adx">https://us02web.zoom.us/meeting/register/tZUsde-hqDMuH9Z0H24FGw0Bq-MmqlIv7Adx</a></span></span>
LOCATION:
UID:e.1184.26610
SEQUENCE:3
DTSTAMP:20260422T051632Z
URL:http://members.saukprairie.com/events/details/2021-tourism-trends-26610
END:VEVENT

END:VCALENDAR
