BEGIN:VCALENDAR
VERSION:2.0
PRODID:-//ChamberMaster//Event Calendar 2.0//EN
METHOD:PUBLISH
X-PUBLISHED-TTL:P3D
REFRESH-INTERVAL:P3D
CALSCALE:GREGORIAN
BEGIN:VEVENT
DTSTART;VALUE=DATE:20221007
DTEND;VALUE=DATE:20221010
TRANSP:TRANSPARENT
X-MICROSOFT-CDO-ALLDAYEVENT:TRUE
SUMMARY:2022 MadTown Yarn Shop Hop
DESCRIPTION:Join us for the 2022 MadTown Yarn Shop Hop. The Shop Hop begins Friday\, October 7th and runs through Sunday\, October 9th. Listed below are the participating shops\, so you can get a jump on planning your route. Visit the Shop Hop website for individual store hours\, specials\, and more. Updates will be made to the website peridocially\, so be sure to check back if information is missing. This is a great oppurtunity to discover new shops\, visit old favorites\, and explore along the way.\n\n\n\nPick up an official stamp card during shop hop weekend at any of the participing shops to track which ones you've visited. Then drop it off at the last place you stop to be entered into a prize drawing!\n\n \nParticipating shops:\n\nKnitcircus Yarns: Hosted by Lodgic Everday Community: 2801 Marshall Ct\, Madison\, WI\n\nSunset Yarn: 3742 Speedway Rd\, Madison\, WI\n\nFlaxen Fleece: 800 Water St\, Sauk City\, WI\n\nNina's Department Store: 143 E Jefferson St\, Spring Green\, WI\n\nSpry Whimsy: 168 W Main St\, Stoughton\, WI\n\nThe Sow's Ear: 125 S Main St\, Verona\, WI\n\nKaleidoscope Fibers: 131 W Main St\, Cambridge\, WI\n\nSun Valley Farms: 300 County Hwy H\, Mt Horeb\, WI\n\nThe Station: 210 Commerce St\, Mineral Point\, WI\n\nStone Crest Llamas: N3155 County Rd A\, Fort Atkinson\, WI\n\nSusan's Fiber Shop: N250 County Rd A\, Columbus\, WI\n\nGalpaca Farm: N9679 Drammen Valley Rd\, Mt Horeb\, WI\n\nFiddlesticks Yarn: 1976 Atwood Ave\, Madison\, WI
X-ALT-DESC;FMTTYPE=text/html:<div class="kvgmc6g5 cxmmr5t8 oygrvhab hcukyx3x c1et5uql" style="overflow-wrap: break-word\; margin: 0px\; font-family: &quot\;Segoe UI Historic&quot\;\, &quot\;Segoe UI&quot\;\, Helvetica\, Arial\, sans-serif\; color: rgb(5\, 5\, 5)\; font-size: 15px\;"><span style="color: rgb(5\, 5\, 5)\; font-family: &quot\;Segoe UI Historic&quot\;\, &quot\;Segoe UI&quot\;\, Helvetica\, Arial\, sans-serif\; font-size: 15px\;">Join us for the 2022 MadTown Yarn Shop Hop. The Shop Hop begins Friday\, October 7th and runs through Sunday\, October 9th. Listed below are the participating shops\, so you can get a jump on planning your route. Visit the Shop Hop website for individual store hours\, specials\, and more. Updates will be made to the website peridocially\, so be sure to check back if information is missing. This is a great oppurtunity to discover new shops\, visit old favorites\, and explore along the way.</span><br />\n<br style="color: rgb(5\, 5\, 5)\; font-family: &quot\;Segoe UI Historic&quot\;\, &quot\;Segoe UI&quot\;\, Helvetica\, Arial\, sans-serif\; font-size: 15px\;" />\n<span style="color: rgb(5\, 5\, 5)\; font-family: &quot\;Segoe UI Historic&quot\;\, &quot\;Segoe UI&quot\;\, Helvetica\, Arial\, sans-serif\; font-size: 15px\;">Pick up an official stamp card during shop hop weekend at any of the participing shops to track which ones you&#39\;ve visited. Then drop it off at the last place you stop to be entered into a prize drawing!</span><br />\n&nbsp\;\n<div class="l7ghb35v kjdc1dyq kmwttqpk gh25dzvf jikcssrz" style="overflow-wrap: break-word\; margin: 0.5em 0px 0px\; font-family: &quot\;Segoe UI Historic&quot\;\, &quot\;Segoe UI&quot\;\, Helvetica\, Arial\, sans-serif\; color: rgb(5\, 5\, 5)\; font-size: 15px\;">Participating shops:</div>\n\n<div class="l7ghb35v kjdc1dyq kmwttqpk gh25dzvf jikcssrz" style="overflow-wrap: break-word\; margin: 0.5em 0px 0px\; font-family: &quot\;Segoe UI Historic&quot\;\, &quot\;Segoe UI&quot\;\, Helvetica\, Arial\, sans-serif\; color: rgb(5\, 5\, 5)\; font-size: 15px\;">Knitcircus Yarns: Hosted by Lodgic Everday Community: 2801 Marshall Ct\, Madison\, WI</div>\n\n<div class="l7ghb35v kjdc1dyq kmwttqpk gh25dzvf jikcssrz" style="overflow-wrap: break-word\; margin: 0.5em 0px 0px\; font-family: &quot\;Segoe UI Historic&quot\;\, &quot\;Segoe UI&quot\;\, Helvetica\, Arial\, sans-serif\; color: rgb(5\, 5\, 5)\; font-size: 15px\;">Sunset Yarn: 3742 Speedway Rd\, Madison\, WI</div>\n\n<div class="l7ghb35v kjdc1dyq kmwttqpk gh25dzvf jikcssrz" style="overflow-wrap: break-word\; margin: 0.5em 0px 0px\; font-family: &quot\;Segoe UI Historic&quot\;\, &quot\;Segoe UI&quot\;\, Helvetica\, Arial\, sans-serif\; color: rgb(5\, 5\, 5)\; font-size: 15px\;">Flaxen Fleece: 800 Water St\, Sauk City\, WI</div>\n\n<div class="l7ghb35v kjdc1dyq kmwttqpk gh25dzvf jikcssrz" style="overflow-wrap: break-word\; margin: 0.5em 0px 0px\; font-family: &quot\;Segoe UI Historic&quot\;\, &quot\;Segoe UI&quot\;\, Helvetica\, Arial\, sans-serif\; color: rgb(5\, 5\, 5)\; font-size: 15px\;">Nina&rsquo\;s Department Store: 143 E Jefferson St\, Spring Green\, WI</div>\n\n<div class="l7ghb35v kjdc1dyq kmwttqpk gh25dzvf jikcssrz" style="overflow-wrap: break-word\; margin: 0.5em 0px 0px\; font-family: &quot\;Segoe UI Historic&quot\;\, &quot\;Segoe UI&quot\;\, Helvetica\, Arial\, sans-serif\; color: rgb(5\, 5\, 5)\; font-size: 15px\;">Spry Whimsy: 168 W Main St\, Stoughton\, WI</div>\n\n<div class="l7ghb35v kjdc1dyq kmwttqpk gh25dzvf jikcssrz" style="overflow-wrap: break-word\; margin: 0.5em 0px 0px\; font-family: &quot\;Segoe UI Historic&quot\;\, &quot\;Segoe UI&quot\;\, Helvetica\, Arial\, sans-serif\; color: rgb(5\, 5\, 5)\; font-size: 15px\;">The Sow&rsquo\;s Ear: 125 S Main St\, Verona\, WI</div>\n\n<div class="l7ghb35v kjdc1dyq kmwttqpk gh25dzvf jikcssrz" style="overflow-wrap: break-word\; margin: 0.5em 0px 0px\; font-family: &quot\;Segoe UI Historic&quot\;\, &quot\;Segoe UI&quot\;\, Helvetica\, Arial\, sans-serif\; color: rgb(5\, 5\, 5)\; font-size: 15px\;">Kaleidoscope Fibers: 131 W Main St\, Cambridge\, WI</div>\n\n<div class="l7ghb35v kjdc1dyq kmwttqpk gh25dzvf jikcssrz" style="overflow-wrap: break-word\; margin: 0.5em 0px 0px\; font-family: &quot\;Segoe UI Historic&quot\;\, &quot\;Segoe UI&quot\;\, Helvetica\, Arial\, sans-serif\; color: rgb(5\, 5\, 5)\; font-size: 15px\;">Sun Valley Farms: 300 County Hwy H\, Mt Horeb\, WI</div>\n\n<div class="l7ghb35v kjdc1dyq kmwttqpk gh25dzvf jikcssrz" style="overflow-wrap: break-word\; margin: 0.5em 0px 0px\; font-family: &quot\;Segoe UI Historic&quot\;\, &quot\;Segoe UI&quot\;\, Helvetica\, Arial\, sans-serif\; color: rgb(5\, 5\, 5)\; font-size: 15px\;">The Station: 210 Commerce St\, Mineral Point\, WI</div>\n\n<div class="l7ghb35v kjdc1dyq kmwttqpk gh25dzvf jikcssrz" style="overflow-wrap: break-word\; margin: 0.5em 0px 0px\; font-family: &quot\;Segoe UI Historic&quot\;\, &quot\;Segoe UI&quot\;\, Helvetica\, Arial\, sans-serif\; color: rgb(5\, 5\, 5)\; font-size: 15px\;">Stone Crest Llamas: N3155 County Rd A\, Fort Atkinson\, WI</div>\n\n<div class="l7ghb35v kjdc1dyq kmwttqpk gh25dzvf jikcssrz" style="overflow-wrap: break-word\; margin: 0.5em 0px 0px\; font-family: &quot\;Segoe UI Historic&quot\;\, &quot\;Segoe UI&quot\;\, Helvetica\, Arial\, sans-serif\; color: rgb(5\, 5\, 5)\; font-size: 15px\;">Susan&rsquo\;s Fiber Shop: N250 County Rd A\, Columbus\, WI</div>\n\n<div class="l7ghb35v kjdc1dyq kmwttqpk gh25dzvf jikcssrz" style="overflow-wrap: break-word\; margin: 0.5em 0px 0px\; font-family: &quot\;Segoe UI Historic&quot\;\, &quot\;Segoe UI&quot\;\, Helvetica\, Arial\, sans-serif\; color: rgb(5\, 5\, 5)\; font-size: 15px\;">Galpaca Farm: N9679 Drammen Valley Rd\, Mt Horeb\, WI</div>\n\n<div class="l7ghb35v kjdc1dyq kmwttqpk gh25dzvf jikcssrz" style="overflow-wrap: break-word\; margin: 0.5em 0px 0px\; font-family: &quot\;Segoe UI Historic&quot\;\, &quot\;Segoe UI&quot\;\, Helvetica\, Arial\, sans-serif\; color: rgb(5\, 5\, 5)\; font-size: 15px\;">Fiddlesticks Yarn: 1976 Atwood Ave\, Madison\, WI</div>\n</div>\n
LOCATION:800 Water Street\, Sauk City WI 53583
UID:e.1184.28711
SEQUENCE:3
DTSTAMP:20260421T033744Z
URL:http://members.saukprairie.com/events/details/2022-madtown-yarn-shop-hop-28711
END:VEVENT

END:VCALENDAR
