BEGIN:VCALENDAR
VERSION:2.0
PRODID:-//ChamberMaster//Event Calendar 2.0//EN
METHOD:PUBLISH
X-PUBLISHED-TTL:P3D
REFRESH-INTERVAL:P3D
CALSCALE:GREGORIAN
BEGIN:VEVENT
DTSTART:20230118T140000Z
DTEND:20230118T163000Z
X-MICROSOFT-CDO-ALLDAYEVENT:FALSE
SUMMARY:2023 Economic Outlook
DESCRIPTION:Look ahead to 2023 with the annual Economic Outlook\, presented by Bank of Prairie du Sac in partnership with the Sauk Prairie Area Chamber of Commerce. Area administrators will provide a video presentation which showcases municipal investments\, economic development projects and community needs that impact your business. Economist Dr. Steven Deller will highlight economic indicators and trends that impact our local\, state\, and national areas. Gain insights into upcoming changes in business and our community. \n\n\n\nCan't attend in-person\, click here to watch the LIVE Stream.
X-ALT-DESC;FMTTYPE=text/html:Look ahead to 2023 with the annual Economic Outlook\, presented by Bank of Prairie du Sac in partnership with the Sauk Prairie Area Chamber of Commerce. Area administrators will provide a video presentation which showcases municipal investments\, economic development projects and community needs that impact your business. Economist Dr. Steven Deller will highlight economic indicators and trends that impact our local\, state\, and national areas. Gain insights into upcoming changes in business and our community.&nbsp\;<br />\n<br />\nCan&#39\;t attend in-person\, <strong><a href="https://youtu.be/hk9YD_loYCA">click here</a></strong> to watch the LIVE Stream.
LOCATION:River Arts Center 105 Ninth Street Prairie du Sac\, WI 53578
UID:e.1184.29284
SEQUENCE:3
DTSTAMP:20260420T232534Z
URL:http://members.saukprairie.com/events/details/2023-economic-outlook-29284
END:VEVENT

END:VCALENDAR
