BEGIN:VCALENDAR
VERSION:2.0
PRODID:-//ChamberMaster//Event Calendar 2.0//EN
METHOD:PUBLISH
X-PUBLISHED-TTL:P3D
REFRESH-INTERVAL:P3D
CALSCALE:GREGORIAN
BEGIN:VEVENT
DTSTART:20240117T141500Z
DTEND:20240117T161500Z
X-MICROSOFT-CDO-ALLDAYEVENT:FALSE
SUMMARY:2024 State of the Riverway Report & Economic Outlook
DESCRIPTION:The Bank of Prairie du Sac and the Sauk Prairie Area Chamber of Commerce are proud to partner to present the State of the Riverway Report and Economic Outlook business and community leaders. The 2024 event will have a new look\, but Economist Dr. Steven Deller will join us to lead attendees through a conversation on general economic trends\, remote workers\, international instability\, and how each of these areas impacts Sauk Prairie businesses.\n\n \n\n8:15   8:30:         Registration\n\n8:30   8:50:         State of the Riverway Report\n\n8:50   9:50:         Economic Outlook\n\n9:50   10:10:       Q&A\n\n \n\nThe State of the Riverway Report and the Economic Outlook is focused on understanding and growing the Sauk Prairie area. Since 2006\, the Bank of Prairie du Sac has brought an economic forecast to the community\, and welcomes all residents\, business owners\, customers and developers to join us to learn how we can continue to grow and build a thriving community.
X-ALT-DESC;FMTTYPE=text/html:The Bank of Prairie du Sac and the Sauk Prairie Area Chamber of Commerce are proud to partner to present the <strong><em>State of the Riverway Report and Economic Outlook</em></strong> business and community leaders. The 2024 event will have a new look\, but Economist Dr. Steven Deller will join us to lead attendees through a conversation on general economic trends\, remote workers\, international instability\, and how each of these areas impacts Sauk Prairie businesses.<br />\n&nbsp\;<br />\n8:15 &ndash\; 8:30: &nbsp\;&nbsp\;&nbsp\;&nbsp\;&nbsp\;&nbsp\; &nbsp\;Registration<br />\n8:30 &ndash\; 8:50:&nbsp\; &nbsp\;&nbsp\;&nbsp\;&nbsp\;&nbsp\; &nbsp\;State of the Riverway Report<br />\n8:50 &ndash\; 9:50:&nbsp\; &nbsp\;&nbsp\;&nbsp\;&nbsp\;&nbsp\; &nbsp\;Economic Outlook<br />\n9:50 &ndash\; 10:10:&nbsp\; &nbsp\;&nbsp\;&nbsp\; &nbsp\;Q&amp\;A<br />\n&nbsp\;<br />\nThe State of the Riverway Report and the Economic Outlook is focused on understanding and growing the Sauk Prairie area. Since 2006\, the Bank of Prairie du Sac has brought an economic forecast to the community\, and welcomes all residents\, business owners\, customers and developers to join us to learn how we can continue to grow and build a thriving community.
LOCATION:River Arts Center 105 Ninth Street Prairie du Sac\, WI 53578
UID:e.1184.31367
SEQUENCE:3
DTSTAMP:20260420T020610Z
URL:http://members.saukprairie.com/events/details/2024-state-of-the-riverway-report-economic-outlook-31367
END:VEVENT

END:VCALENDAR
