BEGIN:VCALENDAR
VERSION:2.0
PRODID:-//ChamberMaster//Event Calendar 2.0//EN
METHOD:PUBLISH
X-PUBLISHED-TTL:P3D
REFRESH-INTERVAL:P3D
CALSCALE:GREGORIAN
BEGIN:VEVENT
DTSTART:20250202T180000Z
DTEND:20250202T200000Z
X-MICROSOFT-CDO-ALLDAYEVENT:FALSE
SUMMARY:2025 SOUPer Bowl for Circles Sauk Prairie
DESCRIPTION:Go home with a unique\, one of a kind handmade bowl made by Sauk Prairie High School Pottery Students and enjoy homemade soup by local celebrity chefs.  \n\nFebruary 2\, 2025 ~ 12:00 - 2pm\n\nAll proceeds benefit Circles Sauk Prairie - Reducing poverty in Sauk Prairie by 10% in 10 years.\n\nMust Purchase a Ticket to attend.\n\nTickets can be purchased online: https://www.makingservicepersonal.org/programs-services/circles/souperbowl\n\nOr at 6:8\, 821 Industry Rd\, Sauk City\, WI 53583\n\nProgram will include hearing from a Circle Leader\, an Art Student\, and the Soup Makers.
X-ALT-DESC;FMTTYPE=text/html:<div>Go home with a unique\, one of a kind handmade bowl made by Sauk Prairie High School Pottery Students and enjoy homemade soup by local celebrity chefs.&nbsp\;&nbsp\;</div>\n\n<div>February 2\, 2025 ~ 12:00 - 2pm</div>\n\n<div>All proceeds benefit Circles Sauk Prairie - Reducing poverty in Sauk Prairie by 10% in 10 years.</div>\n\n<div>Must Purchase a Ticket to attend.</div>\n\n<div>Tickets can be purchased online:&nbsp\;<a class="x1i10hfl xjbqb8w x1ejq31n xd10rxx x1sy0etr x17r0tee x972fbf xcfux6l x1qhh985 xm0m39n x9f619 x1ypdohk xt0psk2 xe8uvvx xdj266r x11i5rnm xat24cr x1mh8g0r xexx8yu x4uap5 x18d9i69 xkhd6sd x16tdsg8 x1hl2dhg xggy1nq x1a2a7pz xt0b8zv x1fey0fg" href="https://www.makingservicepersonal.org/programs-services/circles/souperbowl" rel="nofollow noreferrer" style="color: var(--blue-link)\; cursor: pointer\; text-decoration-line: none\; outline: none\; list-style: none\; margin: 0px\; text-align: inherit\; border-style: none\; -webkit-tap-highlight-color: transparent\; padding: 0px\; border-width: 0px\; box-sizing: border-box\; touch-action: manipulation\; background-color: transparent\; display: inline\; font-family: inherit\;" tabindex="0" target="_blank">https://www.makingservicepersonal.org/programs-services/circles/souperbowl</a></div>\n\n<div>Or at 6:8\, 821 Industry Rd\, Sauk City\, WI 53583</div>\n\n<div>Program will include hearing from a Circle Leader\, an Art Student\, and the Soup Makers.</div>\n
LOCATION:821 Industry Rd\, Sauk City\, WI 53583
UID:e.1184.32348
SEQUENCE:3
DTSTAMP:20260419T121708Z
URL:http://members.saukprairie.com/events/details/2025-souper-bowl-for-circles-sauk-prairie-32348
END:VEVENT

END:VCALENDAR
