BEGIN:VCALENDAR
VERSION:2.0
PRODID:-//ChamberMaster//Event Calendar 2.0//EN
METHOD:PUBLISH
X-PUBLISHED-TTL:P3D
REFRESH-INTERVAL:P3D
CALSCALE:GREGORIAN
BEGIN:VEVENT
DTSTART:20171004T230000Z
DTEND:20171005T020000Z
X-MICROSOFT-CDO-ALLDAYEVENT:FALSE
SUMMARY:2nd Annual Chamber Ladies Event
DESCRIPTION:Join us as we celebrate women through laughter\, music and personal stories from two dynamic speakers. The music selection will take you back to the 70's\, 80's and 90's and this is one event you will definitely laugh and cry! This ticketed event will start with hors d'oeuvres and cocktails while guests network and enjoy the evening. At 7:30\, guests will be seated for talks on life offered first by Darlene Ballweg with Ballweg Chevrolet Buick.\, followed by Sandy Eichel\, professional speaker who will speak to "The Power of the Acorn". Join us for an evening of fun and learn how to be true to yourself. A special thank you to our presenting sponsor\, Ballweg Chevrolet Buick\, for their commitment to women's health and wellness. Tickets can be purchased in person at 109 Phillips Blvd.\, Sauk City\, only 200 tickets available!
X-ALT-DESC;FMTTYPE=text/html:<span style="color: rgb(75\, 79\, 86)\; font-family: Helvetica\, Arial\, sans-serif\; font-size: 14px\;">Join us as we celebrate women through laughter\, music and personal stories from two dynamic speakers. The music selection will take you back to the 70&rsquo\;s\, 80&rsquo\;s and 90&rsquo\;s and this is one event you will definitely laugh and cry! This ticketed event will start with hors d&#39\;oeuvres and cocktails while guests network and enjoy the evening. At 7:30\, guests will be seated for talks on life offered first by Darlene Ballweg with Ballweg Chevrolet Buick.\, followed by Sandy Eichel\, professional speaker who will speak to &ldquo\;The Power of the Acorn&rdquo\;. Join us for an evening of fun and learn how to be true to yourself. A special thank you to our presenting sponsor\, Ballweg Chevrolet Buick\, for their commitment to women&rsquo\;s health and wellness. Tickets can be purchased in person at 109 Phillips Blvd.\, Sauk City\, only 200 tickets available!</span>
LOCATION:Dorf Haus
UID:e.1184.9765
SEQUENCE:3
DTSTAMP:20260424T222102Z
URL:http://members.saukprairie.com/events/details/2nd-annual-chamber-ladies-event-9765
END:VEVENT

END:VCALENDAR
