BEGIN:VCALENDAR
VERSION:2.0
PRODID:-//ChamberMaster//Event Calendar 2.0//EN
METHOD:PUBLISH
X-PUBLISHED-TTL:P3D
REFRESH-INTERVAL:P3D
CALSCALE:GREGORIAN
BEGIN:VEVENT
DTSTART;VALUE=DATE:20160524
DTEND;VALUE=DATE:20160525
TRANSP:TRANSPARENT
X-MICROSOFT-CDO-ALLDAYEVENT:TRUE
SUMMARY:2nd Annual Otter Open
DESCRIPTION:2nd Annual Otter Open To raise funds for proposed River Otter Display @ Ochsner Park Zoo 18 hole scramble with prime rib dinner to follow
X-ALT-DESC;FMTTYPE=text/html:2nd Annual Otter Open To raise funds for proposed River Otter Display @ Ochsner Park Zoo 18 hole scramble with prime rib dinner to follow
LOCATION:Baraboo Country Club 401 Mine Rd
UID:e.1184.8518
SEQUENCE:3
DTSTAMP:20260426T020016Z
URL:http://members.saukprairie.com/events/details/2nd-annual-otter-open-05-24-2016-8518
END:VEVENT

END:VCALENDAR
