BEGIN:VCALENDAR
VERSION:2.0
PRODID:-//ChamberMaster//Event Calendar 2.0//EN
METHOD:PUBLISH
X-PUBLISHED-TTL:P3D
REFRESH-INTERVAL:P3D
CALSCALE:GREGORIAN
BEGIN:VEVENT
DTSTART:20160401T130000Z
DTEND:20160402T010000Z
X-MICROSOFT-CDO-ALLDAYEVENT:FALSE
SUMMARY:2nd Biennial Wings & Water Exhibit
DESCRIPTION:River Arts\, Inc. invited artists from around the nation to participate in a juried exhibit depicting their definition of wings and/or water.  Juror\, Marla Brenner\, selected 49 artists from 22 different states to represent the 2nd Biennial Wings & Water.  The exhibit will be open to the public from March 14 to May 4\, 2016 at the River Arts Center (105-9th Street\, Prairie du Sac\, WI 53578) with a free public reception on March 17th from 5:30pm-7:30pm with catering by Maria van Cleve of Mazomanie.  Winners of the $500 Best of Show\, $200 2nd Place\, and 3 $100 Honorable Mention awards will be announced at that time.
X-ALT-DESC;FMTTYPE=text/html:<span style="color:rgb(94\, 96\, 102)\; font-family:helvetica\,arial\,sans-serif\; font-size:16px">River Arts\, Inc. invited artists from around the nation to participate in a juried exhibit depicting their definition of wings and/or water. &nbsp\;Juror\,&nbsp\;</span><a href="http://www.marlabrenner.com/" style="margin: 0px\; padding: 0px\; font-size: 16px\; vertical-align: baseline\; background-color: transparent\; outline: none 0px\; text-decoration: none\; -webkit-transition: background-color 0.2s linear\, color 0.2s linear\; transition: background-color 0.2s linear\, color 0.2s linear\; font-weight: bold\; font-family: Helvetica\, Arial\, sans-serif\; color: rgb(178\, 168\, 162) !important\;" target="_blank">Marla Brenner</a><span style="color:rgb(94\, 96\, 102)\; font-family:helvetica\,arial\,sans-serif\; font-size:16px">\, selected 49 artists from 22 different states&nbsp\;to represent the 2nd Biennial Wings &amp\; Water. &nbsp\;The exhibit will be open to the public from March 14 to May 4\, 2016 at the River Arts Center (105-9th Street\, Prairie du Sac\, WI 53578) with a free public reception on March 17th from 5:30pm-7:30pm with catering by Maria van Cleve of Mazomanie. &nbsp\;Winners of the $500 Best of Show\, $200 2nd Place\, and 3 $100 Honorable Mention awards will be announced at that time.</span>
LOCATION:River Arts Center Gallery (105-9th Street\, Prairie du Sac) next to Sauk Prairie High School
UID:e.1184.8374
SEQUENCE:3
DTSTAMP:20260426T033509Z
URL:http://members.saukprairie.com/events/details/2nd-biennial-wings-water-exhibit-04-01-2016-8374
END:VEVENT

END:VCALENDAR
