BEGIN:VCALENDAR
VERSION:2.0
PRODID:-//ChamberMaster//Event Calendar 2.0//EN
METHOD:PUBLISH
X-PUBLISHED-TTL:P3D
REFRESH-INTERVAL:P3D
CALSCALE:GREGORIAN
BEGIN:VEVENT
DTSTART;VALUE=DATE:20181012
DTEND;VALUE=DATE:20181014
TRANSP:TRANSPARENT
X-MICROSOFT-CDO-ALLDAYEVENT:TRUE
SUMMARY:2nd State of the Riverway Symposuim
DESCRIPTION:Friends of the Lower Wisconsin Riverway is excited to announce the 2nd "State of the Riverway" Symposium\, Oct. 12-13\, along the banks of the river at Vintage Brewery in Sauk City.\n\n \n\nJoin us for a fun and educational day of presentations on Friday\, Oct. 12\, with more than a dozen experts discussing a wide range of issues.  \n\n\n\nPresentations include: \n\nPreserving and Enjoying the Dark Skies of the LWR by Lynda Schweikert and John Heasley\; When the Wisconsin River Flowed Backward by Eric Carson\; The LWR: Great Habitats\, Great Birds by Mike Mossman\, and Secrets of the Paddlefish\, The LWR's Most Unusual Fish by John Lyons. \n\n\n\nThe first day of the event ends with a banquet dinner and dynamic presentation of writer August Derleth by David Schweitzer. \n\n \n\nSchweitzer\, a Milwaukee resident\, has been presenting many of the works of August Derleth for the last 15 years. He has brought to life reflections of one of Wisconsin's most prolific writers who has more than 150 books to his credit.\n\n \n\nSchweitzer has chosen some of Derleth's best works\, namely "Walden West\," "Return to Walden West\," and selections from Derleth's Journals\, including "Wisconsin Country."\n\n\n\nThe second day of the symposium\, Saturday\, Oct. 13\, starts at 11 a.m. at the VFW park in Prairie du Sac with a FREE fish biology presentation. Attendees will then choose between three FREE field trips (box lunch optional).\n\n\n\nField trip options include:\n\nA. Ecology/Geology bus tour: Stops include Ferry/Cactus Bluff\, Shadewald Mounds\, with discussion along the way on the archeology and ecology of the LWR\, river life\, geology and the river's reversal. \n\n B. Watershed bus tour: Sauk City treatment plant\, river terrace and slough\, Iowa County upland watershed project.\n\n C. Canoe tour: VFW Park to Ferry Bluff and ending at Bender's landing. This trip include mussel hunting and fish seining. \n\n \n\nTo learn more and to register\, visit https://form.jotform.me/82508481669468\n\n\n\nQuestions? Contact Mike Mossman at WisconsinRiverFriends@gmail.com\, or 608-370-1208.
X-ALT-DESC;FMTTYPE=text/html:<span style="color:#505050\;"><span style="font-family:arial\,sans-serif\;"><span style="font-size:10.5pt\;">Friends of the Lower Wisconsin Riverway is excited to announce the 2<sup>nd</sup>&nbsp\;&ldquo\;State of the Riverway&rdquo\; Symposium\, Oct. 12-13\, along the banks of the river at Vintage Brewery in Sauk City.<br />\n&nbsp\;<br />\nJoin us for a fun and educational day of presentations on Friday\, Oct. 12\, with more than a dozen experts discussing a wide range of issues.&nbsp\;&nbsp\;<br />\n<br />\n<strong>Presentations include:&nbsp\;</strong><br />\n<strong>Preserving and Enjoying the Dark Skies of the LWR</strong>&nbsp\;by Lynda Schweikert and John Heasley\;&nbsp\;<strong>When the Wisconsin River Flowed Backward</strong>&nbsp\;by Eric Carson\;&nbsp\;<strong>The LWR: Great Habitats\, Great Birds</strong>&nbsp\;by Mike Mossman\, and&nbsp\;<strong>Secrets of the Paddlefish\, The LWR&#39\;s Most Unusual Fish</strong>&nbsp\;by John Lyons.&nbsp\;<br />\n<br />\nThe first day of the event ends with a banquet dinner and dynamic presentation of writer August Derleth by David Schweitzer.&nbsp\;<br />\n&nbsp\;<br />\nSchweitzer\, a Milwaukee resident\, has been presenting many of the works of August Derleth for the last 15 years. He has brought to life reflections of one of Wisconsin&rsquo\;s most prolific writers who has more than 150 books to his credit.<br />\n&nbsp\;<br />\nSchweitzer has chosen some of Derleth&rsquo\;s best works\, namely &ldquo\;Walden West\,&rdquo\; &ldquo\;Return to Walden West\,&rdquo\; and selections from Derleth&rsquo\;s Journals\, including &ldquo\;Wisconsin Country.&rdquo\;<br />\n<br />\nThe second day of the symposium\, Saturday\, Oct. 13\, starts at 11 a.m. at the VFW park in Prairie du Sac with a FREE fish biology presentation. Attendees will then choose between three FREE field trips (box lunch optional).<br />\n<br />\n<strong>Field trip options include:</strong><br />\n<strong>A.&nbsp\;Ecology/Geology bus tour:&nbsp\;</strong>Stops include Ferry/Cactus Bluff\, Shadewald Mounds\, with discussion along the way on the archeology and ecology of the LWR\, river life\, geology and the river&#39\;s reversal.&nbsp\;<br />\n<strong>&nbsp\;B.&nbsp\;Watershed bus tour:</strong>&nbsp\;Sauk City treatment plant\, river terrace and slough\, Iowa County upland watershed project.<br />\n<strong>&nbsp\;C.&nbsp\;Canoe tour:</strong>&nbsp\;VFW Park to Ferry Bluff and ending at Bender&rsquo\;s landing. This trip include mussel hunting and fish seining.&nbsp\;<br />\n&nbsp\;<br />\nTo learn more and to register\, visit&nbsp\;<a href="https://wisconsinriverfriends.us6.list-manage.com/track/click?u=83e38e5695&amp\;id=b9c4e23d9f&amp\;e=f1372cb3a5"><span style="color:#336699\;">https://form.jotform.me/82508481669468</span></a><br />\n<br />\nQuestions? Contact Mike Mossman at&nbsp\;<a href="mailto:WisconsinRiverFriends@gmail.com"><span style="color:#336699\;">WisconsinRiverFriends@gmail.com</span></a>\, or 608-370-1208.</span></span></span>
LOCATION:
UID:e.1184.21200
SEQUENCE:3
DTSTAMP:20260424T033919Z
URL:http://members.saukprairie.com/events/details/2nd-state-of-the-riverway-symposuim-21200
END:VEVENT

END:VCALENDAR
