BEGIN:VCALENDAR
VERSION:2.0
PRODID:-//ChamberMaster//Event Calendar 2.0//EN
METHOD:PUBLISH
X-PUBLISHED-TTL:P3D
REFRESH-INTERVAL:P3D
CALSCALE:GREGORIAN
BEGIN:VEVENT
DTSTART:20220421T210000Z
DTEND:20220421T230000Z
X-MICROSOFT-CDO-ALLDAYEVENT:FALSE
SUMMARY:3 Ideas to Enhance Your 401(k) to Attract & Retain Employees
DESCRIPTION:Your 401(k) plan is a big part of your benefits offering\, which impacts employee acquisition and retention. \n\nOur panel of experts will help you by answering the most asked 401(k) Plan questions of 2022 and cover topics like:\n\n\n	Plan features that attract employees\n	Easy ways to increase Plan participation\n	Trends in Plan design\n\n\nRegister now at conta.cc/3D33vxS\n\n\n\nEmail lolson@bankpds.com with questions about the event or topics you would like covered during the presentation.\n\n\n\n--\n\n\n\nInvestment and Insurance Products are Not a Deposit\, Not FDIC Insured\, Not Insured by any Federal Government Agency\, Not Guaranteed by Any Bank or Credit Union\, May Lose Value.
X-ALT-DESC;FMTTYPE=text/html:<div><span dir="auto">Your 401(k) plan is a big part of your benefits offering\, which impacts employee acquisition and retention. </span></div>\n\n<div><span dir="auto">Our panel of experts will help you by answering the most asked 401(k) Plan questions of 2022 and cover topics like:</span></div>\n\n<ul>\n	<li>Plan features that attract employees</li>\n	<li><span dir="auto">Easy ways to increase Plan participation</span></li>\n	<li><span dir="auto">Trends in Plan design</span></li>\n</ul>\n\n<div><span dir="auto">Register now at <a class="oajrlxb2 g5ia77u1 qu0x051f esr5mh6w e9989ue4 r7d6kgcz rq0escxv nhd2j8a9 nc684nl6 p7hjln8o kvgmc6g5 cxmmr5t8 oygrvhab hcukyx3x jb3vyjys rz4wbd8a qt6c0cv9 a8nywdso i1ao9s8h esuyzwwr f1sip0of lzcic4wl gpro0wi8 py34i1dx" href="https://l.facebook.com/l.php?u=http%3A%2F%2Fconta.cc%2F3D33vxS%3Ffbclid%3DIwAR3cj30Vn-c0WJNLSzNNdGhGVEgWQCY4pVEu0DPGrAdp5qdNV-taNZ3mrTA&amp\;h=AT0aC6ga36bBCTyXgMS5zEfyEZA_IAuYhBPVO0Qm4X6u_jOu4R7kYyrW7eYMT_V3GWkS53MXlsmzBzD2TYoOylFjO5CROsy8y9Ubai1h7zyBn3LiDKOEES2ITVzy2AcPT0cp&amp\;__tn__=q&amp\;c[0]=AT3b-jTbXzLWOH_uEqg17HaGcFDm9HHauQQw1Fj3dzTHw9VUs8Fobtc7YVcwRv3V_XoguC4ojGv9VNcbLECrR8sOpY1BEhjN33fZihwhfKZmkROhUitbfPYIPbKobpg_ENqiz1_dZroKPxYGlZXi0imiEOAXxWAX8Rb_tzIrUjiAA1ng2w" rel="nofollow noopener" tabindex="0" target="_blank">conta.cc/3D33vxS</a><br />\n<br />\nEmail lolson@bankpds.com with questions about the event or topics you would like covered during the presentation.<br />\n<br />\n--<br />\n<br />\nInvestment and Insurance Products are Not a Deposit\, Not FDIC Insured\, Not Insured by any Federal Government Agency\, Not Guaranteed by Any Bank or Credit Union\, May Lose Value. </span></div>\n
LOCATION:Jaybird Cafe & Spirits 550 Water Street Prairie du Sac\, WI 53578
UID:e.1184.27412
SEQUENCE:3
DTSTAMP:20260421T135313Z
URL:http://members.saukprairie.com/events/details/3-ideas-to-enhance-your-401-k-to-attract-retain-employees-27412
END:VEVENT

END:VCALENDAR
