BEGIN:VCALENDAR
VERSION:2.0
PRODID:-//ChamberMaster//Event Calendar 2.0//EN
METHOD:PUBLISH
X-PUBLISHED-TTL:P3D
REFRESH-INTERVAL:P3D
CALSCALE:GREGORIAN
BEGIN:VEVENT
DTSTART:20220625T220000Z
DTEND:20220626T010000Z
X-MICROSOFT-CDO-ALLDAYEVENT:FALSE
SUMMARY:3 SOULS at Antique Tap
DESCRIPTION:Join 3 SOULS from 5-8pm at Antique Tap during their 4th Annual Poker Run for spirits and live music!
X-ALT-DESC;FMTTYPE=text/html:Join 3 SOULS from 5-8pm at Antique Tap during their 4th Annual Poker Run for spirits and live music!
LOCATION:Antique Tap: 817 Water St\, Sauk City
UID:e.1184.27960
SEQUENCE:3
DTSTAMP:20260421T120133Z
URL:http://members.saukprairie.com/events/details/3-souls-at-antique-tap-27960
END:VEVENT

END:VCALENDAR
