BEGIN:VCALENDAR
VERSION:2.0
PRODID:-//ChamberMaster//Event Calendar 2.0//EN
METHOD:PUBLISH
X-PUBLISHED-TTL:P3D
REFRESH-INTERVAL:P3D
CALSCALE:GREGORIAN
BEGIN:VEVENT
DTSTART:20210828T190000Z
DTEND:20210828T220000Z
X-MICROSOFT-CDO-ALLDAYEVENT:FALSE
SUMMARY:3 SOULS at Schoepp's Cottonwood Resort
DESCRIPTION:Join us to celebrate the end of the summer. No better way to do it than with live music from 3 SOULS!
X-ALT-DESC;FMTTYPE=text/html:Join us to celebrate the end of the summer. No better way to do it than with live music from 3 SOULS!
LOCATION:Schoepp's Cottonwood Resort Sauk City\, Wisconsin
UID:e.1184.26692
SEQUENCE:3
DTSTAMP:20260422T005144Z
URL:http://members.saukprairie.com/events/details/3-souls-at-schoepp-s-cottonwood-resort-26692
END:VEVENT

END:VCALENDAR
