BEGIN:VCALENDAR
VERSION:2.0
PRODID:-//ChamberMaster//Event Calendar 2.0//EN
METHOD:PUBLISH
X-PUBLISHED-TTL:P3D
REFRESH-INTERVAL:P3D
CALSCALE:GREGORIAN
BEGIN:VEVENT
DTSTART:20190824T010000Z
DTEND:20190824T040000Z
X-MICROSOFT-CDO-ALLDAYEVENT:FALSE
SUMMARY:3 SOULS at The Antique Tap
DESCRIPTION:You know it's ALWAYS a party at The TIKI!
X-ALT-DESC;FMTTYPE=text/html:<div class="_63eu" style="box-sizing: border-box\; font-size: 14px\; max-height: 260px\; overflow: hidden\; padding: 12px\; overflow-wrap: break-word\; font-family: Helvetica\, Arial\, sans-serif\; color: rgb(29\, 33\, 41)\;">\n<div class="_63ew" data-testid="event-permalink-details" style="white-space: pre-wrap\; font-family: inherit\;"><span style="font-family: inherit\;">You know it&#39\;s ALWAYS a party at The TIKI!</span></div>\n</div>\n
LOCATION:Antique Tap 817 Water St. Sauk City
UID:e.1184.22715
SEQUENCE:3
DTSTAMP:20260423T125347Z
URL:http://members.saukprairie.com/events/details/3-souls-at-the-antique-tap-22715
END:VEVENT

END:VCALENDAR
