BEGIN:VCALENDAR
VERSION:2.0
PRODID:-//ChamberMaster//Event Calendar 2.0//EN
METHOD:PUBLISH
X-PUBLISHED-TTL:P3D
REFRESH-INTERVAL:P3D
CALSCALE:GREGORIAN
BEGIN:VEVENT
DTSTART;VALUE=DATE:20191110
DTEND;VALUE=DATE:20191111
TRANSP:TRANSPARENT
X-MICROSOFT-CDO-ALLDAYEVENT:TRUE
SUMMARY:30th Anniversary of the Lower WI State Riverway
DESCRIPTION:YOU ARE INVITED\n\nto celebrate the 30th anniversary of the Lower Wisconsin State Riverway\n\nand Riverway Board\n\n\n\nWhen: Sunday\, November 10th at 1:30 p.m.\n\n(Doors open at 1:00 p.m.)\n\nWhere: Vintage Brewing Company\n\n600 Water St.\, Sauk City\n\n\n\nThe Lower Wisconsin State Riverway Board is hosting an event to commemorate the creation of the Riverway and Riverway Board in 1989.\n\nFeatured speakers include former Governor Tommy Thompson\, former State Senator Dale Schultz\, former State Representative Spencer Black and former State Representative David O. Martin.\n\n\n\n(Please feel free to share this invitation with others who may be interested.)\n\nTo assist with planning for the event\, the favor of a reply\n\nto this invitation would be greatly appreciated.\n\n\n\nFor further information or to reply\, please contact\n\nthe Lower Wisconsin State Riverway Board office\n\nat (608) 739-3188 or 1-800-221-3792\n\nor by e-mail at mark.cupp@wisconsin.gov.\n\nInformation also available at http://lwr.state.wi.us
X-ALT-DESC;FMTTYPE=text/html:YOU ARE INVITED<br />\nto celebrate the 30th anniversary of the Lower Wisconsin State Riverway<br />\nand Riverway Board<br />\n<br />\nWhen: Sunday\, November 10th at 1:30 p.m.<br />\n(Doors open at 1:00 p.m.)<br />\nWhere: Vintage Brewing Company<br />\n600 Water St.\, Sauk City<br />\n<br />\nThe Lower Wisconsin State Riverway Board is hosting an event to commemorate the creation of the Riverway and Riverway Board in 1989.<br />\nFeatured speakers include former Governor Tommy Thompson\, former State Senator Dale Schultz\, former State Representative Spencer Black and former State Representative David O. Martin.<br />\n<br />\n(Please feel free to share this invitation with others who may be interested.)<br />\nTo assist with planning for the event\, the favor of a reply<br />\nto this invitation would be greatly appreciated.<br />\n<br />\nFor further information or to reply\, please contact<br />\nthe Lower Wisconsin State Riverway Board office<br />\nat (608) 739-3188 or 1-800-221-3792<br />\nor by e-mail at mark.cupp@wisconsin.gov.<br />\nInformation also available at http://lwr.state.wi.us
LOCATION:
UID:e.1184.23661
SEQUENCE:3
DTSTAMP:20260423T091341Z
URL:http://members.saukprairie.com/events/details/30th-anniversary-of-the-lower-wi-state-riverway-23661
END:VEVENT

END:VCALENDAR
