BEGIN:VCALENDAR
VERSION:2.0
PRODID:-//ChamberMaster//Event Calendar 2.0//EN
METHOD:PUBLISH
X-PUBLISHED-TTL:P3D
REFRESH-INTERVAL:P3D
CALSCALE:GREGORIAN
BEGIN:VEVENT
DTSTART:20170304T140000Z
DTEND:20170304T230000Z
X-MICROSOFT-CDO-ALLDAYEVENT:FALSE
SUMMARY:34th Annual Fishing Expo
DESCRIPTION:The Annual Wilderness Fish and Game Free Fishing Expo is Saturday\, March 4th beginning at 8 A.M.  Hear guest speakers on fishing techniques\, new equipment and the latest hotspots.  There will be manufacturer's reps on hands to answer questions and great season pricing on fishing tackle plus lots of vendors to get you pointed in the right direction
X-ALT-DESC;FMTTYPE=text/html:<span style="line-height: 115%\; font-family: &quot\;Calibri&quot\;\,&quot\;sans-serif&quot\;\; font-size: 10pt\; mso-fareast-language: EN-US\; mso-fareast-font-family: Calibri\; mso-ansi-language: EN-US\; mso-bidi-language: AR-SA\; mso-fareast-theme-font: minor-latin\; mso-ascii-theme-font: minor-latin\; mso-hansi-theme-font: minor-latin\; mso-bidi-font-family: &quot\;Times New Roman&quot\;\; mso-bidi-theme-font: minor-bidi\; mso-bidi-font-size: 12.0pt\;"><font color="#000000">The Annual Wilderness Fish and Game Free Fishing Expo is Saturday\, March 4th beginning at 8 A.M.&nbsp\; Hear guest speakers on fishing techniques\, new equipment and the latest hotspots.&nbsp\; There will be manufacturer&rsquo\;s reps on hands to answer questions and great season pricing on fishing tackle plus lots of vendors to get you pointed in the right direction</font></span>
LOCATION:Wilderness Fish & Game\, 500 Water Street\, Sauk City\, WI 53583
UID:e.1184.9954
SEQUENCE:3
DTSTAMP:20260425T110237Z
URL:http://members.saukprairie.com/events/details/34th-annual-fishing-expo-9954
END:VEVENT

END:VCALENDAR
