BEGIN:VCALENDAR
VERSION:2.0
PRODID:-//ChamberMaster//Event Calendar 2.0//EN
METHOD:PUBLISH
X-PUBLISHED-TTL:P3D
REFRESH-INTERVAL:P3D
CALSCALE:GREGORIAN
BEGIN:VEVENT
DTSTART:20240217T130000Z
DTEND:20240217T210000Z
X-MICROSOFT-CDO-ALLDAYEVENT:FALSE
SUMMARY:3rd Annual Moon Valley Fisheree
DESCRIPTION:TIP UP!!!\n\n3rd Annual Moon Valley Fisheree (Lake Wisconsin)\n\nSponsored by Merrimac Snowbusters\n\nSaturday\, February 17th\, 2024\n\n7AM-3PM\n\n\n\nCome out and enjoy a fun day and help support a great cause!\n\n\n\n50/50\, other raffles & Live Auction to Benefit:\n\n\n	Sawyer Martin BE KIND 33\n	Kyle Ertmer Skilled Trade Scholarship\n	Bar Buddies Merrimac\n\n\n\n\nFor more details and information contact Allan at 608-570-0525\n\n\n\nRegister at: H'S PLACE\n\nEvent Ends with Snowbusters New ATV Raffle Pull
X-ALT-DESC;FMTTYPE=text/html:<div class="xdj266r x11i5rnm xat24cr x1mh8g0r x1vvkbs x126k92a" color:="" font-size:="" segoe="" style="margin: 0px\; overflow-wrap: break-word\; white-space-collapse: preserve\; font-family: " ui="">\n<div dir="auto" style="font-family: inherit\;">TIP UP!!!</div>\n\n<div dir="auto" style="font-family: inherit\;">3rd Annual Moon Valley Fisheree (Lake Wisconsin)<br />\n<em>Sponsored by Merrimac Snowbusters</em></div>\n\n<div dir="auto" style="font-family: inherit\;">Saturday\, February 17th\, 2024</div>\n\n<div dir="auto" style="font-family: inherit\;">7AM-3PM</div>\n</div>\n\n<div class="x11i5rnm xat24cr x1mh8g0r x1vvkbs xtlvy1s x126k92a" color:="" font-size:="" segoe="" style="margin: 0.5em 0px 0px\; overflow-wrap: break-word\; white-space-collapse: preserve\; font-family: " ui="">\n<div dir="auto" style="font-family: inherit\;">Come out and enjoy a fun day and help support a great cause!</div>\n</div>\n\n<div class="x11i5rnm xat24cr x1mh8g0r x1vvkbs xtlvy1s x126k92a" color:="" font-size:="" segoe="" style="margin: 0.5em 0px 0px\; overflow-wrap: break-word\; white-space-collapse: preserve\; font-family: " ui="">\n<div dir="auto" style="font-family: inherit\;"><em>50/50\, other raffles &amp\; Live Auction to Benefit:</em></div>\n\n<ul dir="ltr">\n	<li style="font-family: inherit\;">Sawyer Martin BE KIND 33</li>\n	<li style="font-family: inherit\;">Kyle Ertmer Skilled Trade Scholarship</li>\n	<li style="font-family: inherit\;">Bar Buddies Merrimac</li>\n</ul>\n</div>\n\n<div class="x11i5rnm xat24cr x1mh8g0r x1vvkbs xtlvy1s x126k92a" color:="" font-size:="" segoe="" style="margin: 0.5em 0px 0px\; overflow-wrap: break-word\; white-space-collapse: preserve\; font-family: " ui="">\n<div dir="auto" style="font-family: inherit\;">For more details and information contact Allan at 608-570-0525</div>\n</div>\n\n<div class="x11i5rnm xat24cr x1mh8g0r x1vvkbs xtlvy1s x126k92a" color:="" font-size:="" segoe="" style="margin: 0.5em 0px 0px\; overflow-wrap: break-word\; white-space-collapse: preserve\; font-family: " ui="">\n<div dir="auto" style="font-family: inherit\;">Register at: <strong><a href="https://www.facebook.com/BigHSplace?__cft__[0]=AZWkC4pWKbzxSpTKjgdwZe8AryhaOjc4-xdnFdrOz2cS18nL21puDQQAVauQVluUUY950VqUScuEleVR9I0GT6WPySSu-quVqtdDYV70RAEXWvPJxM0ubg994O3u-qffHJFzk7q7Qo4gQYQ-5QfyuFy5dVQTipYUJHvzRgr0aNL_YlBwxxKcwMqkd7nfpo9RluCc_ZqYGzQgFVUjhewDpXKi&amp\;__tn__=-]K-y-R"><span style="font-family: inherit\;"><span class="xt0psk2" style="display: inline\; font-family: inherit\;">H&#39\;S PLACE</span></span></a></strong></div>\n\n<div dir="auto" style="font-family: inherit\;">Event Ends with Snowbusters New ATV Raffle Pull</div>\n</div>\n
LOCATION:H's Place/Moon Valley Boat Landing
UID:e.1184.31532
SEQUENCE:3
DTSTAMP:20260420T003419Z
URL:http://members.saukprairie.com/events/details/3rd-annual-moon-valley-fisheree-31532
END:VEVENT

END:VCALENDAR
