BEGIN:VCALENDAR
VERSION:2.0
PRODID:-//ChamberMaster//Event Calendar 2.0//EN
METHOD:PUBLISH
X-PUBLISHED-TTL:P3D
REFRESH-INTERVAL:P3D
CALSCALE:GREGORIAN
BEGIN:VEVENT
DTSTART:20190501T210000Z
DTEND:20190502T010000Z
X-MICROSOFT-CDO-ALLDAYEVENT:FALSE
SUMMARY:3rd Annual Sauk-Prairie Ambulance Spaghetti Dinner
DESCRIPTION:Third Annual Spaghetti Dinner Fundraiser for Sauk Prairie Ambulance Association to help raise money for lifesaving equipment.\n\n\n\nPlease join Sauk Prairie Ambulance as we celebrate our 50th anniversary. Our goal this year is to raise funds towards the purchases of a LUCAS device for each ambulance. A LUCAS device is a mechanical chest compression device that helps our life saving team deliver high quality consistent chest compressions to sudden cardiac arrest patients in the field. The Sauk Prairie Ambulance Association response area covers 196 sq/mi with a population of just over 14\,800 residents. This area includes all or parts of the Villages of Prairie du Sac\, Sauk City and Merrimac\, the Towns of Honey Creek\, Merrimac\, Prairie du Sac\, Roxbury\, Sumpter\, Troy and West Point. Last year our service responded to over 1\,500 calls for service.  There will be dine-in or carry-out options available. Questions can be directed to info@saukprairieambulance.com
X-ALT-DESC;FMTTYPE=text/html:<span style="color: rgb(29\, 33\, 41)\; font-family: Helvetica\, Arial\, sans-serif\; font-size: 14px\; white-space: pre-wrap\;">Third Annual Spaghetti Dinner Fundraiser for Sauk Prairie Ambulance Association to help raise money for lifesaving equipment.</span><br />\n<br />\nPlease join Sauk Prairie Ambulance as we celebrate our 50<sup>th</sup> anniversary. Our goal this year is to raise funds towards the purchases of a LUCAS device for each ambulance. A LUCAS device is a mechanical chest compression device that helps our life saving team deliver high quality consistent chest compressions to sudden cardiac arrest patients in the field. The Sauk Prairie Ambulance Association response area covers 196 sq/mi with a population of just over 14\,800 residents. This area includes all or parts of the Villages of Prairie du Sac\, Sauk City and Merrimac\, the Towns of Honey Creek\, Merrimac\, Prairie du Sac\, Roxbury\, Sumpter\, Troy and West Point. Last year our service responded to over 1\,500 calls for service. &nbsp\;There will be dine-in or carry-out options available. Questions can be directed to <a href="mailto:info@saukprairieambulance.com">info@saukprairieambulance.com</a>
LOCATION:Lake Wisconsin Country Club N1076 Golf Road Prairie du Sac\, WI 53578
UID:e.1184.22092
SEQUENCE:3
DTSTAMP:20260423T184425Z
URL:http://members.saukprairie.com/events/details/3rd-annual-sauk-prairie-ambulance-spaghetti-dinner-22092
END:VEVENT

END:VCALENDAR
