BEGIN:VCALENDAR
VERSION:2.0
PRODID:-//ChamberMaster//Event Calendar 2.0//EN
METHOD:PUBLISH
X-PUBLISHED-TTL:P3D
REFRESH-INTERVAL:P3D
CALSCALE:GREGORIAN
BEGIN:VEVENT
DTSTART;VALUE=DATE:20160625
DTEND;VALUE=DATE:20160626
TRANSP:TRANSPARENT
X-MICROSOFT-CDO-ALLDAYEVENT:TRUE
SUMMARY:3rd Annual St. Clare Health Care Foundation Trap Shoot
DESCRIPTION:Teams shoot at 10 birds\, the winner of the round receives a frozen whole chicken or pizza.
X-ALT-DESC;FMTTYPE=text/html:Teams shoot at 10 birds\, the winner of the round receives a frozen whole chicken or pizza.
LOCATION:Circus City Sportsman Club E11781 Trapshoot Road\, Baraboo
UID:e.1184.8571
SEQUENCE:3
DTSTAMP:20260426T021028Z
URL:http://members.saukprairie.com/events/details/3rd-annual-st-clare-health-care-foundation-trap-shoot-06-25-2016-8571
END:VEVENT

END:VCALENDAR
