BEGIN:VCALENDAR
VERSION:2.0
PRODID:-//ChamberMaster//Event Calendar 2.0//EN
METHOD:PUBLISH
X-PUBLISHED-TTL:P3D
REFRESH-INTERVAL:P3D
CALSCALE:GREGORIAN
BEGIN:VEVENT
DTSTART;VALUE=DATE:20181108
DTEND;VALUE=DATE:20181111
TRANSP:TRANSPARENT
X-MICROSOFT-CDO-ALLDAYEVENT:TRUE
SUMMARY:4 Sisters Holiday Sale
DESCRIPTION:Not your ordinary sale\, quality items reasonably priced!\n\n\n\nHoliday and seasonal wreaths\, decorations and table arrangements\, plus hand crocheted rugs and scarves. American Girl product. Commercial quality Snowmen. Home decor\, accent pieces\, prints (including) Owen Gromme and much\, much more!\n\n\n\nNo early Sales
X-ALT-DESC;FMTTYPE=text/html:Not your ordinary sale\, quality items reasonably priced!<br />\n<br />\nHoliday and seasonal wreaths\, decorations and table arrangements\, plus hand crocheted rugs and scarves. American Girl product. Commercial quality Snowmen. Home decor\, accent pieces\, prints (including) Owen Gromme and much\, much more!<br />\n<br />\nNo early Sales
LOCATION:6907 Taylor Road Sauk City\, WI 53583
UID:e.1184.21435
SEQUENCE:3
DTSTAMP:20260424T024737Z
URL:http://members.saukprairie.com/events/details/4-sisters-holiday-sale-21435
END:VEVENT

END:VCALENDAR
