BEGIN:VCALENDAR
VERSION:2.0
PRODID:-//ChamberMaster//Event Calendar 2.0//EN
METHOD:PUBLISH
X-PUBLISHED-TTL:P3D
REFRESH-INTERVAL:P3D
CALSCALE:GREGORIAN
BEGIN:VEVENT
DTSTART;VALUE=DATE:20221118
DTEND;VALUE=DATE:20221120
TRANSP:TRANSPARENT
X-MICROSOFT-CDO-ALLDAYEVENT:TRUE
SUMMARY:4 Sisters Holiday Sale
DESCRIPTION:Add Sparkle and Pizzazz to your Holiday Home!\n\n\n\n4 Sisters Holiday Sales\n\nUnique gifts and decor...priced from $5 - $50\n\n\n\nCustom Florals-Wreaths\, Swags\, Garland\, Small Holiday Trees\, Table Centerpieces\, Home Decor\, Seasonal and Year-Round\, Glassware\, Lanterns\, Vases\, and more!\n\n\n\nPhotos available on Craig's List Madison\, Garage Sales
X-ALT-DESC;FMTTYPE=text/html:Add Sparkle and Pizzazz to your Holiday Home!<br />\n<br />\n4 Sisters Holiday Sales<br />\nUnique gifts and decor...priced from $5 - $50<br />\n<br />\nCustom Florals-Wreaths\, Swags\, Garland\, Small Holiday Trees\, Table Centerpieces\, Home Decor\, Seasonal and Year-Round\, Glassware\, Lanterns\, Vases\, and more!<br />\n<br />\nPhotos available on Craig&#39\;s List Madison\, Garage Sales
LOCATION:6907 Taylor Road Sauk City\, WI 53583
UID:e.1184.28790
SEQUENCE:3
DTSTAMP:20260421T021344Z
URL:http://members.saukprairie.com/events/details/4-sisters-holiday-sale-28790
END:VEVENT

END:VCALENDAR
