BEGIN:VCALENDAR
VERSION:2.0
PRODID:-//ChamberMaster//Event Calendar 2.0//EN
METHOD:PUBLISH
X-PUBLISHED-TTL:P3D
REFRESH-INTERVAL:P3D
CALSCALE:GREGORIAN
BEGIN:VEVENT
DTSTART:20240804T180000Z
DTEND:20240804T210000Z
X-MICROSOFT-CDO-ALLDAYEVENT:FALSE
SUMMARY:4H Celebration Open House @ Harrisburg Troy Historical School
DESCRIPTION:New Changes in Open House Events\n\n \n\n\n\nThis is the year for changes at Harrisburg! In the past\, we have had Open House events on 2 Sundays of each month from the end of May to the beginning of September. This year\, to hopefully attract more participants\, we have decided to have only one Sunday per month\, but with a lot more kick to it!\n\n\n\nPlease try to join us for the remaining Open Houses on:\n\n\n\n \n\nAugust 4   We will be celebrating 4H with an Open House and Brat Stand\n\nSeptember 15   We will be hosting a Farmer's Market & a Tractor Show
X-ALT-DESC;FMTTYPE=text/html:<div color:="" font-size:="" segoe="" ui="">\n<div dir="auto">New Changes in Open House Events<br />\n&nbsp\;</div>\n</div>\n\n<div color:="" font-size:="" segoe="" ui="">\n<div dir="auto">This is the year for changes at Harrisburg! In the past\, we have had Open House events on 2 Sundays of each month from the end of May to the beginning of September. This year\, to hopefully attract more participants\, we have decided to have only one Sunday per month\, but with a lot more kick to it!<br />\n<br />\nPlease try to join us for the remaining Open Houses&nbsp\;on:</div>\n</div>\n\n<div color:="" font-size:="" segoe="" ui="">\n<div dir="auto">&nbsp\;</div>\n\n<div dir="auto">August 4 &ndash\; We will be celebrating 4H with an Open House and Brat Stand</div>\n\n<div dir="auto">September 15 &ndash\; We will be hosting a Farmer&rsquo\;s Market &amp\; a Tractor Show</div>\n</div>\n
LOCATION:Harrisburg Troy Historical School
UID:e.1184.32889
SEQUENCE:3
DTSTAMP:20260419T163714Z
URL:http://members.saukprairie.com/events/details/4h-celebration-open-house-harrisburg-troy-historical-school-32889
END:VEVENT

END:VCALENDAR
