BEGIN:VCALENDAR
VERSION:2.0
PRODID:-//ChamberMaster//Event Calendar 2.0//EN
METHOD:PUBLISH
X-PUBLISHED-TTL:P3D
REFRESH-INTERVAL:P3D
CALSCALE:GREGORIAN
BEGIN:VEVENT
DTSTART:20160507T190000Z
DTEND:20160508T033000Z
X-MICROSOFT-CDO-ALLDAYEVENT:FALSE
SUMMARY:4th Annual Bowlin' for the Colon
DESCRIPTION:A fundraiser to raise money for programs and research benefiting children and adults with Crohn's Disease and Ulcerative Colitis.
X-ALT-DESC;FMTTYPE=text/html:A fundraiser to raise money for programs and research benefiting children and adults with Crohn&#39\;s Disease and Ulcerative Colitis.
LOCATION:Riviera Bowl\, Sauk City
UID:e.1184.8449
SEQUENCE:3
DTSTAMP:20260426T020218Z
URL:http://members.saukprairie.com/events/details/4th-annual-bowlin-for-the-colon-05-07-2016-8449
END:VEVENT

END:VCALENDAR
