BEGIN:VCALENDAR
VERSION:2.0
PRODID:-//ChamberMaster//Event Calendar 2.0//EN
METHOD:PUBLISH
X-PUBLISHED-TTL:P3D
REFRESH-INTERVAL:P3D
CALSCALE:GREGORIAN
BEGIN:VEVENT
DTSTART:20181209T150000Z
DTEND:20181209T220000Z
X-MICROSOFT-CDO-ALLDAYEVENT:FALSE
SUMMARY:4th Annual Holiday Shop
DESCRIPTION:4th Annual Holiday Shop\n\nA Benefit for Sauk Prairie Area Food Pantry\n\n\n\nSaturday\, December 8\, 9   4\n\nSunday\, December 9\, 9   4\n\nSaturday\, December 15\, 9   4\n\n\n\n836 Phillips Blvd.\, Sauk City\, WI\n\n(Formerly Sauk Prairie Harley Davidson)\n\n\n\nFeaturing:\n\nOver 60 Vendors and Craftersto help complete your Holiday shopping!\n\n\n\nPlus:\n\nHoliday Cookie Sale for Friends of Sauk Prairie Park and Rec.
X-ALT-DESC;FMTTYPE=text/html:4th Annual Holiday Shop<br />\nA Benefit for Sauk Prairie Area Food Pantry<br />\n<br />\nSaturday\, December 8\, 9 &ndash\; 4<br />\nSunday\, December 9\, 9 &ndash\; 4<br />\nSaturday\, December 15\, 9 &ndash\; 4<br />\n<br />\n836 Phillips Blvd.\, Sauk City\, WI<br />\n(Formerly Sauk Prairie Harley Davidson)<br />\n<br />\nFeaturing:<br />\nOver 60 Vendors and Craftersto help complete your Holiday shopping!<br />\n<br />\nPlus:<br />\nHoliday Cookie Sale for Friends of Sauk Prairie Park and Rec.
LOCATION:836 Phillips Blvd.\, Sauk City\, WI (Formerly Sauk Prairie Harley Davidson)
UID:e.1184.21485
SEQUENCE:3
DTSTAMP:20260424T021252Z
URL:http://members.saukprairie.com/events/details/4th-annual-holiday-shop-21485
END:VEVENT

END:VCALENDAR
