BEGIN:VCALENDAR
VERSION:2.0
PRODID:-//ChamberMaster//Event Calendar 2.0//EN
METHOD:PUBLISH
X-PUBLISHED-TTL:P3D
REFRESH-INTERVAL:P3D
CALSCALE:GREGORIAN
BEGIN:VEVENT
DTSTART:20170128T190000Z
DTEND:20170128T220000Z
X-MICROSOFT-CDO-ALLDAYEVENT:FALSE
SUMMARY:4th Annual Special Needs Ride and Fun Day
DESCRIPTION:This event was created to offer the opportunity for folks that may not otherwise have access to experience snowmobiling in our area. Snowmobiling is one of the seasonal activities that can be enjoyed on a Wisconsin Winter day. Snowmobile\, ATV and cutter rides will begin at 1:00 p.m. and continue throughout the day. The club will have some snowmobile gear and safety helmets available for use\, but recommends dressing accordingly to endure the conditions of the outdoors on a winter day. In addition to the rides\, food and refreshments will be provided. Donations will be collected for Special Olympics in Sauk County.
X-ALT-DESC;FMTTYPE=text/html:This event was created to offer the opportunity for folks that may not otherwise have access to experience snowmobiling in our area. Snowmobiling is one of the seasonal activities that can be enjoyed on a Wisconsin Winter day. Snowmobile\, ATV and cutter rides will begin at 1:00 p.m. and continue throughout the day. The club will have some snowmobile gear and safety helmets available for use\, but recommends dressing accordingly to endure the conditions of the outdoors on a winter day. In addition to the rides\, food and refreshments will be provided. Donations will be collected for Special Olympics in Sauk County.
LOCATION:Fair Valley Performance E9688 County Road B Sauk City\, WI 53583
UID:e.1184.9853
SEQUENCE:3
DTSTAMP:20260425T124323Z
URL:http://members.saukprairie.com/events/details/4th-annual-special-needs-ride-and-fun-day-9853
END:VEVENT

END:VCALENDAR
